BEGIN:VCALENDAR
VERSION:2.0
PRODID:-//Lebenstraum e.V. - ECPv6.15.20//NONSGML v1.0//EN
CALSCALE:GREGORIAN
METHOD:PUBLISH
X-WR-CALNAME:Lebenstraum e.V.
X-ORIGINAL-URL:https://lebenstraum-verein.de
X-WR-CALDESC:Veranstaltungen für Lebenstraum e.V.
REFRESH-INTERVAL;VALUE=DURATION:PT1H
X-Robots-Tag:noindex
X-PUBLISHED-TTL:PT1H
BEGIN:VTIMEZONE
TZID:Europe/Berlin
BEGIN:DAYLIGHT
TZOFFSETFROM:+0100
TZOFFSETTO:+0200
TZNAME:CEST
DTSTART:20210328T010000
END:DAYLIGHT
BEGIN:STANDARD
TZOFFSETFROM:+0200
TZOFFSETTO:+0100
TZNAME:CET
DTSTART:20211031T010000
END:STANDARD
BEGIN:DAYLIGHT
TZOFFSETFROM:+0100
TZOFFSETTO:+0200
TZNAME:CEST
DTSTART:20220327T010000
END:DAYLIGHT
BEGIN:STANDARD
TZOFFSETFROM:+0200
TZOFFSETTO:+0100
TZNAME:CET
DTSTART:20221030T010000
END:STANDARD
BEGIN:DAYLIGHT
TZOFFSETFROM:+0100
TZOFFSETTO:+0200
TZNAME:CEST
DTSTART:20230326T010000
END:DAYLIGHT
BEGIN:STANDARD
TZOFFSETFROM:+0200
TZOFFSETTO:+0100
TZNAME:CET
DTSTART:20231029T010000
END:STANDARD
END:VTIMEZONE
BEGIN:VEVENT
DTSTART;TZID=Europe/Berlin:20220916T083000
DTEND;TZID=Europe/Berlin:20220916T150000
DTSTAMP:20260420T111411
CREATED:20220331T094617Z
LAST-MODIFIED:20220711T101441Z
UID:6416-1663317000-1663340400@lebenstraum-verein.de
SUMMARY:12. Frühförderforum des Lebenstraum e.V.
DESCRIPTION:Unser 12. Frühförderforum findet am 16.09.2022 unter dem Thema \n– „Kinder und Familien stärken – Teilhabe fördern“ – \nin den Frankeschen Stiftungen\, Haus 31 (Hans-Ahrbeck-Haus)\, statt. \n  \n  \nJens Borrmann-Lupprian vom Jugendhilferechtsverein Dresden referiert zum Thema: \n„Das Kinder- und Jugendstärkungsgesetz und die Bedeutung für die Praxis“. \nDie Tagesordnung inklusive einer Kurzvorstellung der Workshops können Sie sich gerne bereits als PDF-Datei herunterladen: \nTagesordnung Frühförderforum 2022 \n  \n  \nDie Online-Anmeldung ist ab dem 11.07.2022 auf unserer Homepage www.lebenstraum-verein.de/ff-forum möglich.
URL:https://lebenstraum-verein.de/veranstaltung/12-fruehfoerderforum/
LOCATION:Hans Ahrbeck Haus\, Frankesche Stiftungen\, Franckeplatz 1\, Haus 31\, Halle (Saale)\, Sachsen-Anhalt\, 06110\, Deutschland
CATEGORIES:Frühförderforum,Termine
ATTACH;FMTTYPE=image/jpeg:https://lebenstraum-verein.de/wp-content/uploads/2022/03/Fruehfoerderforum.jpg
ORGANIZER;CN="Lebenstraum e.V.":MAILTO:kontakt@lebenstraum-verein.de
END:VEVENT
END:VCALENDAR