BEGIN:VCALENDAR
VERSION:2.0
PRODID:-//Lebenstraum e.V. - ECPv6.15.20//NONSGML v1.0//EN
CALSCALE:GREGORIAN
METHOD:PUBLISH
X-WR-CALNAME:Lebenstraum e.V.
X-ORIGINAL-URL:https://lebenstraum-verein.de
X-WR-CALDESC:Veranstaltungen für Lebenstraum e.V.
REFRESH-INTERVAL;VALUE=DURATION:PT1H
X-Robots-Tag:noindex
X-PUBLISHED-TTL:PT1H
BEGIN:VTIMEZONE
TZID:Europe/Berlin
BEGIN:DAYLIGHT
TZOFFSETFROM:+0100
TZOFFSETTO:+0200
TZNAME:CEST
DTSTART:20240331T010000
END:DAYLIGHT
BEGIN:STANDARD
TZOFFSETFROM:+0200
TZOFFSETTO:+0100
TZNAME:CET
DTSTART:20241027T010000
END:STANDARD
BEGIN:DAYLIGHT
TZOFFSETFROM:+0100
TZOFFSETTO:+0200
TZNAME:CEST
DTSTART:20250330T010000
END:DAYLIGHT
BEGIN:STANDARD
TZOFFSETFROM:+0200
TZOFFSETTO:+0100
TZNAME:CET
DTSTART:20251026T010000
END:STANDARD
BEGIN:DAYLIGHT
TZOFFSETFROM:+0100
TZOFFSETTO:+0200
TZNAME:CEST
DTSTART:20260329T010000
END:DAYLIGHT
BEGIN:STANDARD
TZOFFSETFROM:+0200
TZOFFSETTO:+0100
TZNAME:CET
DTSTART:20261025T010000
END:STANDARD
END:VTIMEZONE
BEGIN:VEVENT
DTSTART;TZID=Europe/Berlin:20250507T180000
DTEND;TZID=Europe/Berlin:20250507T203000
DTSTAMP:20260421T102258
CREATED:20250415T152146Z
LAST-MODIFIED:20250506T132827Z
UID:12831-1746640800-1746649800@lebenstraum-verein.de
SUMMARY:Filmpremiere und Podiumsdiskussion
DESCRIPTION:Selbstbestimmtes Wohnen – eine Chance für Alle \nEinladung in Leichter Sprache (pdf) \nKurzfilm-Premiere am 7. Mai 2025 im Puschkino Halle\, Teil der Protestwoche „Halle behindert“. \nDer Film des Lebenstraum e.V. begleitet Menschen mit Behinderungen und zeigt\, wie selbstbestimmt Menschen mit Behinderungen wohnen und was ihnen dabei wichtig ist.\nUnter der Leitung von Medienpädagoge Marcus-Andreas Mohr entstand ein partizipatives Gemeinschaftsprojekt\, das den Alltag\, Herausforderungen und Perspektiven authentisch darstellt.\nNach der Vorführung sprechen wir zunächst mit den Film-Protagonist*innen und der filmischen Begleitung Marcus-Andreas Mohr über ihre Erfahrungen\, bevor wir in die vertiefende Fachdiskussion übergehen. \nLeitfrage des Abends:\nWelche strukturellen\, politischen und gesellschaftlichen Maßnahmen sind notwendig\, um dauerhaft Chancengleichheit und selbstbestimmtes Wohnen für Menschen mit Behinderung zu ermöglichen? \nUnser Panel\nProtagonist*innen aus dem Film \nDr. Jutta Hildebrand (Sprecherin der Arbeitsgruppe „Inklusion“ Runder Tisch für Menschen mit Behinderungen) \nProf.in Dr.in Kerstin Puhr (stellv. Institutssprecherin Institut für Rehabilitationspädagogik\, MLU Halle-Wittenberg) \nThomas Schüler (stellv. Sprecher Arbeitsgruppe „Barrierefreiheit“ Runder Tisch für Menschen mit Behinderungen) \nModeration: Nadja Hagen (@nadjushenkalein) \n  \nHinweis! Der Eintritt ist nur mit Anmeldung garantiert – die Plätze sind begrenzt \nEintritt & Anmeldung\nDer Eintritt ist frei – meldet euch bitte vorher an unter\n✉️ kontakt@lebenstraum-verein.de \nWir freuen uns auf einen spannenden\, inklusiven und lebendigen Austausch mit euch! \nHinweis: Aktuell gibt es noch keine Hörfassung des Kurzfilms und für das Gespräch keine Gebärdensprachdolmetschung. Wir bedauern dies und bitten um euer Verständnis. \n  \n 
URL:https://lebenstraum-verein.de/veranstaltung/filmpremiere-und-posiumsdiskusion/
LOCATION:Pusch Kino\, Kardinal-Albrecht-Straße 6\, Halle (Saale)\, Sachsen-Anhalt\, 06108\, Germany
CATEGORIES:Protestwoche
ATTACH;FMTTYPE=image/webp:https://lebenstraum-verein.de/wp-content/uploads/2025/04/Veranstaltungs-Haendels.webp
END:VEVENT
END:VCALENDAR