BEGIN:VCALENDAR
VERSION:2.0
PRODID:-//Lebenstraum e.V. - ECPv6.15.20//NONSGML v1.0//EN
CALSCALE:GREGORIAN
METHOD:PUBLISH
X-WR-CALNAME:Lebenstraum e.V.
X-ORIGINAL-URL:https://lebenstraum-verein.de
X-WR-CALDESC:Veranstaltungen für Lebenstraum e.V.
REFRESH-INTERVAL;VALUE=DURATION:PT1H
X-Robots-Tag:noindex
X-PUBLISHED-TTL:PT1H
BEGIN:VTIMEZONE
TZID:Europe/Berlin
BEGIN:DAYLIGHT
TZOFFSETFROM:+0100
TZOFFSETTO:+0200
TZNAME:CEST
DTSTART:20210328T010000
END:DAYLIGHT
BEGIN:STANDARD
TZOFFSETFROM:+0200
TZOFFSETTO:+0100
TZNAME:CET
DTSTART:20211031T010000
END:STANDARD
BEGIN:DAYLIGHT
TZOFFSETFROM:+0100
TZOFFSETTO:+0200
TZNAME:CEST
DTSTART:20220327T010000
END:DAYLIGHT
BEGIN:STANDARD
TZOFFSETFROM:+0200
TZOFFSETTO:+0100
TZNAME:CET
DTSTART:20221030T010000
END:STANDARD
BEGIN:DAYLIGHT
TZOFFSETFROM:+0100
TZOFFSETTO:+0200
TZNAME:CEST
DTSTART:20230326T010000
END:DAYLIGHT
BEGIN:STANDARD
TZOFFSETFROM:+0200
TZOFFSETTO:+0100
TZNAME:CET
DTSTART:20231029T010000
END:STANDARD
END:VTIMEZONE
BEGIN:VEVENT
DTSTART;TZID=Europe/Berlin:20220831T170000
DTEND;TZID=Europe/Berlin:20220831T190000
DTSTAMP:20260423T055611
CREATED:20220721T113716Z
LAST-MODIFIED:20220721T113716Z
UID:8027-1661965200-1661972400@lebenstraum-verein.de
SUMMARY:Freizeit-Treff: Wir gestalten Geschenk-Karten
DESCRIPTION:Wir treffen uns alle beim Lebenstraum in der Geschäftsstelle.\nWir bemalen Karten.\nDafür nutzen wir eine bestimmte Technik.\nDie Karten kannst du dann beschriften verschenken. \nTreffpunkt: Große Märkerstraße 14/15\nUhrzeit: 17.00 – 19.00 Uhr\nKosten: Teilnahme-Beitrag (3\,- €) + Unkosten (1\, – €) \nAnmeldung:\nBitte meldet euch vorher telefonisch im Sekretariat des Lebenstraum e.V. oder mit einer E-Mail an.\nTelefonnummer: 0345 52 00 25 1\nE-Mail: freizeittreff@lebenstraum-verein.de
URL:https://lebenstraum-verein.de/veranstaltung/freizeit-treff-wir-gestalten-geschenk-karten/
LOCATION:Geschäftsstelle des Lebenstraum e.V.\, Große Märkerstraße 14/15\, Halle
CATEGORIES:Freizeitangebote,Freizeittreff
ATTACH;FMTTYPE=image/jpeg:https://lebenstraum-verein.de/wp-content/uploads/2022/07/Karten-basteln.jpg
ORGANIZER;CN="Paula Buchholz":MAILTO:freizeittreff@lebenstraum-verein.de
END:VEVENT
END:VCALENDAR