BEGIN:VCALENDAR
VERSION:2.0
PRODID:-//Lebenstraum e.V. - ECPv6.15.20//NONSGML v1.0//EN
CALSCALE:GREGORIAN
METHOD:PUBLISH
X-WR-CALNAME:Lebenstraum e.V.
X-ORIGINAL-URL:https://lebenstraum-verein.de
X-WR-CALDESC:Veranstaltungen für Lebenstraum e.V.
REFRESH-INTERVAL;VALUE=DURATION:PT1H
X-Robots-Tag:noindex
X-PUBLISHED-TTL:PT1H
BEGIN:VTIMEZONE
TZID:Europe/Berlin
BEGIN:DAYLIGHT
TZOFFSETFROM:+0100
TZOFFSETTO:+0200
TZNAME:CEST
DTSTART:20230326T010000
END:DAYLIGHT
BEGIN:STANDARD
TZOFFSETFROM:+0200
TZOFFSETTO:+0100
TZNAME:CET
DTSTART:20231029T010000
END:STANDARD
BEGIN:DAYLIGHT
TZOFFSETFROM:+0100
TZOFFSETTO:+0200
TZNAME:CEST
DTSTART:20240331T010000
END:DAYLIGHT
BEGIN:STANDARD
TZOFFSETFROM:+0200
TZOFFSETTO:+0100
TZNAME:CET
DTSTART:20241027T010000
END:STANDARD
BEGIN:DAYLIGHT
TZOFFSETFROM:+0100
TZOFFSETTO:+0200
TZNAME:CEST
DTSTART:20250330T010000
END:DAYLIGHT
BEGIN:STANDARD
TZOFFSETFROM:+0200
TZOFFSETTO:+0100
TZNAME:CET
DTSTART:20251026T010000
END:STANDARD
END:VTIMEZONE
BEGIN:VEVENT
DTSTART;TZID=Europe/Berlin:20240503T130000
DTEND;TZID=Europe/Berlin:20240503T180000
DTSTAMP:20260421T102803
CREATED:20240123T104854Z
LAST-MODIFIED:20240410T111108Z
UID:10531-1714741200-1714759200@lebenstraum-verein.de
SUMMARY:Protestmarsch - Hallmarktfest zum Europäischen Protesttag zur Gleichstellung von Menschen mit Behinderung
DESCRIPTION:3.Mai 2024 \n13.00 Uhr fängt der Protestmarsch auf dem Riebeckplatz an. Wir laufen den Boulevard entlang. Dabei werden Plakate mit Forderungen bis zum Hallmarkt getragen. \n13.00 Uhr startet auch das Programm auf der Bühne auf dem Hallmarkt. Es gibt Musik- und Tanzauftritte von Kindern und Erwachsenen\, mit und ohne Behinderung. \nEs gibt Redebeiträge von Politikern\, Politikerinnen und Menschen mit Behinderung aus Halle. Die Reden beginnen\, wenn der Protestmarsch auf dem Hallmarkt angekommen ist. Start ist ab 14.15 Uhr. \nEs gibt Stände mit Essen\, Getränken und einige Informationsstände. Wer Lust hat\, kann sogar ein eigenes Plakat basteln. \n 
URL:https://lebenstraum-verein.de/veranstaltung/hallmarktfest-zum-europaeischen-protesttag-zur-gleichstellung-von-menschen-mit-behinderung/
LOCATION:Hallmarktfest\, Hallmarkt\, Halle\, Sachsen-Anhalt\, Deutschland
CATEGORIES:Termine
ATTACH;FMTTYPE=image/jpeg:https://lebenstraum-verein.de/wp-content/uploads/2024/01/Flyer-fuer-webseite.jpg
ORGANIZER;CN="Lebenstraum e.V.":MAILTO:kontakt@lebenstraum-verein.de
END:VEVENT
END:VCALENDAR