BEGIN:VCALENDAR
VERSION:2.0
PRODID:-//Lebenstraum e.V. - ECPv6.15.20//NONSGML v1.0//EN
CALSCALE:GREGORIAN
METHOD:PUBLISH
X-WR-CALNAME:Lebenstraum e.V.
X-ORIGINAL-URL:https://lebenstraum-verein.de
X-WR-CALDESC:Veranstaltungen für Lebenstraum e.V.
REFRESH-INTERVAL;VALUE=DURATION:PT1H
X-Robots-Tag:noindex
X-PUBLISHED-TTL:PT1H
BEGIN:VTIMEZONE
TZID:Europe/Berlin
BEGIN:DAYLIGHT
TZOFFSETFROM:+0100
TZOFFSETTO:+0200
TZNAME:CEST
DTSTART:20220327T010000
END:DAYLIGHT
BEGIN:STANDARD
TZOFFSETFROM:+0200
TZOFFSETTO:+0100
TZNAME:CET
DTSTART:20221030T010000
END:STANDARD
BEGIN:DAYLIGHT
TZOFFSETFROM:+0100
TZOFFSETTO:+0200
TZNAME:CEST
DTSTART:20230326T010000
END:DAYLIGHT
BEGIN:STANDARD
TZOFFSETFROM:+0200
TZOFFSETTO:+0100
TZNAME:CET
DTSTART:20231029T010000
END:STANDARD
BEGIN:DAYLIGHT
TZOFFSETFROM:+0100
TZOFFSETTO:+0200
TZNAME:CEST
DTSTART:20240331T010000
END:DAYLIGHT
BEGIN:STANDARD
TZOFFSETFROM:+0200
TZOFFSETTO:+0100
TZNAME:CET
DTSTART:20241027T010000
END:STANDARD
END:VTIMEZONE
BEGIN:VEVENT
DTSTART;TZID=Europe/Berlin:20230709T080000
DTEND;TZID=Europe/Berlin:20230715T170000
DTSTAMP:20260423T180640
CREATED:20230310T104645Z
LAST-MODIFIED:20230310T105337Z
UID:9289-1688889600-1689440400@lebenstraum-verein.de
SUMMARY:Lebenstraum  Feriencamp 2023 - Im Grünen Herzen Deutschlands
DESCRIPTION:Ihr wollt in den Sommerferien Spaß\, Spannung und Abenteuer erleben? \nNeue Freunde kennenlernen und keine Langeweile haben? \nDann kommt mit in das Lebenstraum-Feriencamp! \n  \nFür Wen? \nFür Schulkinder\nmit & ohne Unterstützungsbedarf \nWann? \n9. Bis 15. Juli 2023 \nWo? \nFerienpark Feuerkuppe in Thüringen \nKiEZ Ferienpark Feuerkuppe e.V.\nZur Feuerkuppe 2 | 99706 Sondershausen / Straußberg \n  \nKosten \nTeilnahmegebühr: 350\,00€ \nZuzüglich Betreuungskosten bei Teilnehmenden \nmit Behinderung (Kosten können beim Verein angefragt werden) \n  \nAnmeldung unter: \nHier können Sie das Anmeldeformular als PDF-Datei herunterladen: ANMELDUNGEN ZU FREIZEITVERANSTALTUNGEN \nBitte füllen Sie das Formular vollständig aus und senden Sie es unterschrieben an uns zurück: \nLebenstraum e.V. \nGroße Märkerstraße 14/15 \n06108 Halle \nDie Übernahme der Teilnahmegebühren können Eltern im Bedarfsfall beim Sozialamt über „Bildung und Teilhabe“ beantragen. Die Betreuungskosten für Kinder und Jugendliche mit einer Behinderung übernehmen die Krankenkassen. \nTelefon:  0345 – 520 02 51 \nE-Mail: kontakt@lebenstraum-verein.de
URL:https://lebenstraum-verein.de/veranstaltung/lebenstraum-feriencamp-2023-im-gruenen-herzen-deutschlands/
LOCATION:Ferienpark Feuerkuppe\, Zur Feuerkuppe 2\, Sondershausen / Straußberg\, Thüringen\, 99706\, Deutschland
CATEGORIES:Ferien-Camps,Freizeitangebote,Termine
ATTACH;FMTTYPE=image/jpeg:https://lebenstraum-verein.de/wp-content/uploads/2023/03/Social_Media-scaled-e1678445607253.jpg
ORGANIZER;CN="Lebenstraum e.V.":MAILTO:kontakt@lebenstraum-verein.de
END:VEVENT
END:VCALENDAR