BEGIN:VCALENDAR
VERSION:2.0
PRODID:-//Lebenstraum e.V. - ECPv6.15.20//NONSGML v1.0//EN
CALSCALE:GREGORIAN
METHOD:PUBLISH
X-WR-CALNAME:Lebenstraum e.V.
X-ORIGINAL-URL:https://lebenstraum-verein.de
X-WR-CALDESC:Veranstaltungen für Lebenstraum e.V.
REFRESH-INTERVAL;VALUE=DURATION:PT1H
X-Robots-Tag:noindex
X-PUBLISHED-TTL:PT1H
BEGIN:VTIMEZONE
TZID:Europe/Berlin
BEGIN:DAYLIGHT
TZOFFSETFROM:+0100
TZOFFSETTO:+0200
TZNAME:CEST
DTSTART:20220327T010000
END:DAYLIGHT
BEGIN:STANDARD
TZOFFSETFROM:+0200
TZOFFSETTO:+0100
TZNAME:CET
DTSTART:20221030T010000
END:STANDARD
BEGIN:DAYLIGHT
TZOFFSETFROM:+0100
TZOFFSETTO:+0200
TZNAME:CEST
DTSTART:20230326T010000
END:DAYLIGHT
BEGIN:STANDARD
TZOFFSETFROM:+0200
TZOFFSETTO:+0100
TZNAME:CET
DTSTART:20231029T010000
END:STANDARD
BEGIN:DAYLIGHT
TZOFFSETFROM:+0100
TZOFFSETTO:+0200
TZNAME:CEST
DTSTART:20240331T010000
END:DAYLIGHT
BEGIN:STANDARD
TZOFFSETFROM:+0200
TZOFFSETTO:+0100
TZNAME:CET
DTSTART:20241027T010000
END:STANDARD
END:VTIMEZONE
BEGIN:VEVENT
DTSTART;TZID=Europe/Berlin:20230629T163000
DTEND;TZID=Europe/Berlin:20230629T183000
DTSTAMP:20260423T140215
CREATED:20230306T120619Z
LAST-MODIFIED:20230509T112154Z
UID:9282-1688056200-1688063400@lebenstraum-verein.de
SUMMARY:Offener Wohntreff
DESCRIPTION:Austausch für WG-Interessierte\,\nAngehörige und gesetzliche Vertreter \nWas machen wir? \nEs gibt Zeit sich kennenzulernen.\nSie können über das Wohnen sprechen.\nWir stellen den Raum zu Verfügung.\nSie können miteinander ins Gespräch kommen. \nZeit: 16:30 – 18:30 Uhr \nTermine: Donnerstag 1x im Quartal \nKosten \nSpendenbasis vor Ort \nFür wen ist die Veranstaltung?\nMenschen mit Behinderungen\nihre gesetzlichen Betreuer\nEltern\nInteressierte \nWie melde ich mich an?  \nSie melden sich für die Veranstaltungen an.\nDas geht über das Anmeldeformular.\nDieses schicken Sie unterschrieben an uns zurück.\nDas geht per Post: \nGroße Märkerstraße 14/15\,\n06108 Halle \nOder über Email: kontakt@lebenstraum-verein.de \nWenn Sie eine Begleitung zu der Veranstaltung benötigen\, dann geben Sie das bitte an.\nHierfür meldet sich eine Kollegin bei Ihnen.
URL:https://lebenstraum-verein.de/veranstaltung/offener-wohntreff-2/
LOCATION:Geschäftsstelle des Lebenstraum e.V.\, Große Märkerstraße 14/15\, Halle
CATEGORIES:Freizeitangebote,Wohnschule
ATTACH;FMTTYPE=image/jpeg:https://lebenstraum-verein.de/wp-content/uploads/2023/03/2022_Pic_1_WuT.jpg
ORGANIZER;CN="Luise M%C3%BCller":MAILTO:kontakt@lebenstraum-verein.de
END:VEVENT
END:VCALENDAR