BEGIN:VCALENDAR
VERSION:2.0
PRODID:-//Lebenstraum e.V. - ECPv6.15.20//NONSGML v1.0//EN
CALSCALE:GREGORIAN
METHOD:PUBLISH
X-WR-CALNAME:Lebenstraum e.V.
X-ORIGINAL-URL:https://lebenstraum-verein.de
X-WR-CALDESC:Veranstaltungen für Lebenstraum e.V.
REFRESH-INTERVAL;VALUE=DURATION:PT1H
X-Robots-Tag:noindex
X-PUBLISHED-TTL:PT1H
BEGIN:VTIMEZONE
TZID:Europe/Berlin
BEGIN:DAYLIGHT
TZOFFSETFROM:+0100
TZOFFSETTO:+0200
TZNAME:CEST
DTSTART:20230326T010000
END:DAYLIGHT
BEGIN:STANDARD
TZOFFSETFROM:+0200
TZOFFSETTO:+0100
TZNAME:CET
DTSTART:20231029T010000
END:STANDARD
BEGIN:DAYLIGHT
TZOFFSETFROM:+0100
TZOFFSETTO:+0200
TZNAME:CEST
DTSTART:20240331T010000
END:DAYLIGHT
BEGIN:STANDARD
TZOFFSETFROM:+0200
TZOFFSETTO:+0100
TZNAME:CET
DTSTART:20241027T010000
END:STANDARD
BEGIN:DAYLIGHT
TZOFFSETFROM:+0100
TZOFFSETTO:+0200
TZNAME:CEST
DTSTART:20250330T010000
END:DAYLIGHT
BEGIN:STANDARD
TZOFFSETFROM:+0200
TZOFFSETTO:+0100
TZNAME:CET
DTSTART:20251026T010000
END:STANDARD
END:VTIMEZONE
BEGIN:VEVENT
DTSTART;TZID=Europe/Berlin:20240426T190000
DTEND;TZID=Europe/Berlin:20240426T210000
DTSTAMP:20260420T111411
CREATED:20240322T092407Z
LAST-MODIFIED:20240322T092407Z
UID:10664-1714158000-1714165200@lebenstraum-verein.de
SUMMARY:Spiele-Haus
DESCRIPTION:Spiele-Haus \nIhr habt euch gewünscht im Spiele-Haus ins Wochenende zu starten.\nGesa\, Robert und Paula von der Uni Halle freuen sich auf den Abend\nmit euch. \nIm Spiele-Haus gibt es etwas zu Trinken.\nUnd wir können viele Spiele spielen.\nDabei können wir uns gut unterhalten.\nFür Snacks wird gesorgt. \nTreffpunkt: Spielehaus (Franckeplatz 1\, Haus 33)\nAb 19:00 Uhr\nKosten: Taschen-Geld
URL:https://lebenstraum-verein.de/veranstaltung/spiele-haus/
LOCATION:Spielehaus\, Franckesche Stiftungen 1 (Haus 33)\, Halle\, 06108
CATEGORIES:Freizeitangebote,Freizeittreff
ATTACH;FMTTYPE=image/jpeg:https://lebenstraum-verein.de/wp-content/uploads/2021/12/games-650435_1920-680x453-1.jpg
ORGANIZER;CN="Paula Buchholz":MAILTO:freizeittreff@lebenstraum-verein.de
END:VEVENT
END:VCALENDAR