BEGIN:VCALENDAR
VERSION:2.0
PRODID:-//Lebenstraum e.V. - ECPv6.15.20//NONSGML v1.0//EN
CALSCALE:GREGORIAN
METHOD:PUBLISH
X-WR-CALNAME:Lebenstraum e.V.
X-ORIGINAL-URL:https://lebenstraum-verein.de
X-WR-CALDESC:Veranstaltungen für Lebenstraum e.V.
REFRESH-INTERVAL;VALUE=DURATION:PT1H
X-Robots-Tag:noindex
X-PUBLISHED-TTL:PT1H
BEGIN:VTIMEZONE
TZID:Europe/Berlin
BEGIN:DAYLIGHT
TZOFFSETFROM:+0100
TZOFFSETTO:+0200
TZNAME:CEST
DTSTART:20210328T010000
END:DAYLIGHT
BEGIN:STANDARD
TZOFFSETFROM:+0200
TZOFFSETTO:+0100
TZNAME:CET
DTSTART:20211031T010000
END:STANDARD
BEGIN:DAYLIGHT
TZOFFSETFROM:+0100
TZOFFSETTO:+0200
TZNAME:CEST
DTSTART:20220327T010000
END:DAYLIGHT
BEGIN:STANDARD
TZOFFSETFROM:+0200
TZOFFSETTO:+0100
TZNAME:CET
DTSTART:20221030T010000
END:STANDARD
BEGIN:DAYLIGHT
TZOFFSETFROM:+0100
TZOFFSETTO:+0200
TZNAME:CEST
DTSTART:20230326T010000
END:DAYLIGHT
BEGIN:STANDARD
TZOFFSETFROM:+0200
TZOFFSETTO:+0100
TZNAME:CET
DTSTART:20231029T010000
END:STANDARD
END:VTIMEZONE
BEGIN:VEVENT
DTSTART;VALUE=DATE:20220326
DTEND;VALUE=DATE:20220327
DTSTAMP:20260424T083657
CREATED:20211222T132723Z
LAST-MODIFIED:20220301T123522Z
UID:4360-1648252800-1648339199@lebenstraum-verein.de
SUMMARY:„Wandergeschichten“ Brocken
DESCRIPTION:Fahrt mit der Brockenbahn zum Gipfel\, kleiner Rundweg um das Plateau\,  Besuch des Brockenmuseum\, Abstieg oder Rückfahrt mit der Bahn. \nReisekosten: 25€ \nGruppenbetreuungskosten: 125€\nRollstuhl geeignet: nein\nAbholung: zentral \n  \nFür alle Fahrten gilt: \n\nAnmeldungen können nur mit unseren Anmeldeformularen erfolgen. Sie erhalten im Anschluss eine Bestätigung\nEs können jederzeit Corona bedingte Einschränkungen auftreten\, bis hin zur Absage der Fahrt.\nEs gelten die jeweils gültigen Hygieneauflagen. Wer diese nicht möchte\, kann leider nicht mitfahren.\nEinzelbetreuungen müssen unbedingt angemeldet sein und erhalten dann eine gesonderte Berechnung.
URL:https://lebenstraum-verein.de/veranstaltung/wandergeschichten-brocken/
LOCATION:Brocken
CATEGORIES:Bildungsangebote
ATTACH;FMTTYPE=image/jpeg:https://lebenstraum-verein.de/wp-content/uploads/2021/12/Brockenbahn.jpg
ORGANIZER;CN="Steffen Hau%C3%9Fmann":MAILTO:steffen.haussmann@lebenstraum-verein.de
END:VEVENT
END:VCALENDAR