BEGIN:VCALENDAR
VERSION:2.0
PRODID:-//Lebenstraum e.V. - ECPv6.15.20//NONSGML v1.0//EN
CALSCALE:GREGORIAN
METHOD:PUBLISH
X-WR-CALNAME:Lebenstraum e.V.
X-ORIGINAL-URL:https://lebenstraum-verein.de
X-WR-CALDESC:Veranstaltungen für Lebenstraum e.V.
REFRESH-INTERVAL;VALUE=DURATION:PT1H
X-Robots-Tag:noindex
X-PUBLISHED-TTL:PT1H
BEGIN:VTIMEZONE
TZID:Europe/Berlin
BEGIN:DAYLIGHT
TZOFFSETFROM:+0100
TZOFFSETTO:+0200
TZNAME:CEST
DTSTART:20230326T010000
END:DAYLIGHT
BEGIN:STANDARD
TZOFFSETFROM:+0200
TZOFFSETTO:+0100
TZNAME:CET
DTSTART:20231029T010000
END:STANDARD
BEGIN:DAYLIGHT
TZOFFSETFROM:+0100
TZOFFSETTO:+0200
TZNAME:CEST
DTSTART:20240331T010000
END:DAYLIGHT
BEGIN:STANDARD
TZOFFSETFROM:+0200
TZOFFSETTO:+0100
TZNAME:CET
DTSTART:20241027T010000
END:STANDARD
BEGIN:DAYLIGHT
TZOFFSETFROM:+0100
TZOFFSETTO:+0200
TZNAME:CEST
DTSTART:20250330T010000
END:DAYLIGHT
BEGIN:STANDARD
TZOFFSETFROM:+0200
TZOFFSETTO:+0100
TZNAME:CET
DTSTART:20251026T010000
END:STANDARD
END:VTIMEZONE
BEGIN:VEVENT
DTSTART;TZID=Europe/Berlin:20241130T130000
DTEND;TZID=Europe/Berlin:20241130T180000
DTSTAMP:20260423T053649
CREATED:20240123T130353Z
LAST-MODIFIED:20241106T091227Z
UID:10533-1732971600-1732989600@lebenstraum-verein.de
SUMMARY:Weihnachtsgarten im Alten Pfarrhaus Ammendorf
DESCRIPTION:Am ersten Adventswochenende setzen wir unsere kleine Tradition fort und veranstalten im Garten und in der Begegnungsstätte das Alten Pfarrhauses in Ammendorf nun schon zum dritten Mal den Lebenstraum-Weihnachtsgarten. Ein gemütlicher kleiner Weihnachtsmarkt mit tollen Angeboten\, wie Knüppelteig am Lagerfeuer\, verschiedenen Ständen und gemeinsam den Weihnachtsbaum schmücken. \nNähere Information zu dem diesjährigen Weihnachtsgarten werden folgen. Wir freuen uns auf alle Besucher und Besucherinnen! \n13:00 Uhr – Eröffnung\n14:00 Uhr – Weihnachtsbläser\n15:00 Uhr – Weihnachtsfilm\n16:30 Uhr – Lebenstraum Chor \nFreut euch auf ein festliches Angebot! An unseren Ständen findet ihr frisch gebackene Crêpes\, dampfenden Glühwein und handgefertigte Schätze vom Kunsthandwerk. \nHier in Leichter Sprache lesen
URL:https://lebenstraum-verein.de/veranstaltung/weihnachtsgarten-im-alten-pfarrhaus-ammendorf/
LOCATION:Begegnungsstätte „Altes Pfarrhaus“ Ammendorf\, Hauptstraße 43\, Halle-Ammendorf\, Sachsen-Anhalt\, 06132\, Deutschland
CATEGORIES:Termine
ATTACH;FMTTYPE=image/jpeg:https://lebenstraum-verein.de/wp-content/uploads/2024/09/Weihnachtsgarten-Header.jpg
ORGANIZER;CN="Lebenstraum e.V.":MAILTO:kontakt@lebenstraum-verein.de
END:VEVENT
END:VCALENDAR