BEGIN:VCALENDAR
VERSION:2.0
PRODID:-//Lebenstraum e.V. - ECPv6.15.20//NONSGML v1.0//EN
CALSCALE:GREGORIAN
METHOD:PUBLISH
X-WR-CALNAME:Lebenstraum e.V.
X-ORIGINAL-URL:https://lebenstraum-verein.de
X-WR-CALDESC:Veranstaltungen für Lebenstraum e.V.
REFRESH-INTERVAL;VALUE=DURATION:PT1H
X-Robots-Tag:noindex
X-PUBLISHED-TTL:PT1H
BEGIN:VTIMEZONE
TZID:Europe/Berlin
BEGIN:DAYLIGHT
TZOFFSETFROM:+0100
TZOFFSETTO:+0200
TZNAME:CEST
DTSTART:20210328T010000
END:DAYLIGHT
BEGIN:STANDARD
TZOFFSETFROM:+0200
TZOFFSETTO:+0100
TZNAME:CET
DTSTART:20211031T010000
END:STANDARD
BEGIN:DAYLIGHT
TZOFFSETFROM:+0100
TZOFFSETTO:+0200
TZNAME:CEST
DTSTART:20220327T010000
END:DAYLIGHT
BEGIN:STANDARD
TZOFFSETFROM:+0200
TZOFFSETTO:+0100
TZNAME:CET
DTSTART:20221030T010000
END:STANDARD
BEGIN:DAYLIGHT
TZOFFSETFROM:+0100
TZOFFSETTO:+0200
TZNAME:CEST
DTSTART:20230326T010000
END:DAYLIGHT
BEGIN:STANDARD
TZOFFSETFROM:+0200
TZOFFSETTO:+0100
TZNAME:CET
DTSTART:20231029T010000
END:STANDARD
END:VTIMEZONE
BEGIN:VEVENT
DTSTART;TZID=Europe/Berlin:20220820T100000
DTEND;TZID=Europe/Berlin:20220820T120000
DTSTAMP:20260420T112012
CREATED:20220718T125005Z
LAST-MODIFIED:20220718T125005Z
UID:7877-1660989600-1660996800@lebenstraum-verein.de
SUMMARY:Weiterbildung: „Freizeitgestaltung und Assistenztätigkeit inkl. Austausch unter Assisten*innen“
DESCRIPTION:Referentin: Sophie Wochner \nTeilnahme: Nur Online-Teilnahme ist möglich (Mindestteilnehmeranzahl: 4 Personen) \nHierzu könnt ihr gern anonymisierte Fallbeispiele oder Situationsbeispiele aus eurer Praxiserfahrung mitbringen\, die dann besprochen werden können. \nBitte unbedingt per E-Mail unter weiterbildung@lebenstraum-verein.de anmelden. Ausschließlich diese Mail-Adresse nutzen\, damit keine Anmeldungen verloren gehen.
URL:https://lebenstraum-verein.de/veranstaltung/weiterbildung-freizeitgestaltung-und-assistenztaetigkeit-inkl-austausch-unter-assisteninnen/
LOCATION:Online-Veranstaltung
CATEGORIES:Weiterbildungen
ATTACH;FMTTYPE=image/jpeg:https://lebenstraum-verein.de/wp-content/uploads/2022/03/seminar.jpg
END:VEVENT
END:VCALENDAR