BEGIN:VCALENDAR
VERSION:2.0
PRODID:-//Lebenstraum e.V. - ECPv6.15.20//NONSGML v1.0//EN
CALSCALE:GREGORIAN
METHOD:PUBLISH
X-WR-CALNAME:Lebenstraum e.V.
X-ORIGINAL-URL:https://lebenstraum-verein.de
X-WR-CALDESC:Veranstaltungen für Lebenstraum e.V.
REFRESH-INTERVAL;VALUE=DURATION:PT1H
X-Robots-Tag:noindex
X-PUBLISHED-TTL:PT1H
BEGIN:VTIMEZONE
TZID:Europe/Berlin
BEGIN:DAYLIGHT
TZOFFSETFROM:+0100
TZOFFSETTO:+0200
TZNAME:CEST
DTSTART:20240331T010000
END:DAYLIGHT
BEGIN:STANDARD
TZOFFSETFROM:+0200
TZOFFSETTO:+0100
TZNAME:CET
DTSTART:20241027T010000
END:STANDARD
BEGIN:DAYLIGHT
TZOFFSETFROM:+0100
TZOFFSETTO:+0200
TZNAME:CEST
DTSTART:20250330T010000
END:DAYLIGHT
BEGIN:STANDARD
TZOFFSETFROM:+0200
TZOFFSETTO:+0100
TZNAME:CET
DTSTART:20251026T010000
END:STANDARD
BEGIN:DAYLIGHT
TZOFFSETFROM:+0100
TZOFFSETTO:+0200
TZNAME:CEST
DTSTART:20260329T010000
END:DAYLIGHT
BEGIN:STANDARD
TZOFFSETFROM:+0200
TZOFFSETTO:+0100
TZNAME:CET
DTSTART:20261025T010000
END:STANDARD
END:VTIMEZONE
BEGIN:VEVENT
DTSTART;TZID=Europe/Berlin:20250924T170000
DTEND;TZID=Europe/Berlin:20250924T190000
DTSTAMP:20260422T191620
CREATED:20250822T065825Z
LAST-MODIFIED:20250822T065825Z
UID:13449-1758733200-1758740400@lebenstraum-verein.de
SUMMARY:Wir backen Flammkuchen
DESCRIPTION:Wir kochen das erste Mal im neuen Teilhabezentrum!\nZuerst rollen wir den Teig aus.\nWir schneiden Obst und Gemüse.\nDann kannst du den Flammkuchen belegen.\nDazu machen wir einen Salat.\nZum Schluss essen wir gemeinsam. Das wird lecker! \nTreffpunkt: Teilhabezentrum: Magdeburger Straße 33\nUhrzeit: 17 Uhr – 19 Uhr\nKosten: Teilnahme-Beitrag (3€) + Einkauf (5€) = 8€ \nBitte meldet euch vorher an.\nSpätestens 2 Tage vor dem Freizeit-Treff
URL:https://lebenstraum-verein.de/veranstaltung/wir-backen-flammkuchen-2/
LOCATION:Teilhabezentrum Mitte\, Magdeburger Straße 33\, Halle (Saale)\, Sachsen-Anhalt\, 06112\, Germany
CATEGORIES:Freizeitangebote,Freizeittreff
ATTACH;FMTTYPE=image/webp:https://lebenstraum-verein.de/wp-content/uploads/2025/07/pexels-mali-244395.webp
ORGANIZER;CN="Paula Buchholz":MAILTO:freizeittreff@lebenstraum-verein.de
END:VEVENT
END:VCALENDAR