BEGIN:VCALENDAR
VERSION:2.0
PRODID:-//Lebenstraum e.V. - ECPv6.15.20//NONSGML v1.0//EN
CALSCALE:GREGORIAN
METHOD:PUBLISH
X-WR-CALNAME:Lebenstraum e.V.
X-ORIGINAL-URL:https://lebenstraum-verein.de
X-WR-CALDESC:Veranstaltungen für Lebenstraum e.V.
REFRESH-INTERVAL;VALUE=DURATION:PT1H
X-Robots-Tag:noindex
X-PUBLISHED-TTL:PT1H
BEGIN:VTIMEZONE
TZID:Europe/Berlin
BEGIN:DAYLIGHT
TZOFFSETFROM:+0100
TZOFFSETTO:+0200
TZNAME:CEST
DTSTART:20250330T010000
END:DAYLIGHT
BEGIN:STANDARD
TZOFFSETFROM:+0200
TZOFFSETTO:+0100
TZNAME:CET
DTSTART:20251026T010000
END:STANDARD
BEGIN:DAYLIGHT
TZOFFSETFROM:+0100
TZOFFSETTO:+0200
TZNAME:CEST
DTSTART:20260329T010000
END:DAYLIGHT
BEGIN:STANDARD
TZOFFSETFROM:+0200
TZOFFSETTO:+0100
TZNAME:CET
DTSTART:20261025T010000
END:STANDARD
BEGIN:DAYLIGHT
TZOFFSETFROM:+0100
TZOFFSETTO:+0200
TZNAME:CEST
DTSTART:20270328T010000
END:DAYLIGHT
BEGIN:STANDARD
TZOFFSETFROM:+0200
TZOFFSETTO:+0100
TZNAME:CET
DTSTART:20271031T010000
END:STANDARD
END:VTIMEZONE
BEGIN:VEVENT
DTSTART;TZID=Europe/Berlin:20260214T150000
DTEND;TZID=Europe/Berlin:20260214T170000
DTSTAMP:20260420T111732
CREATED:20260130T075322Z
LAST-MODIFIED:20260130T075322Z
UID:13771-1771081200-1771088400@lebenstraum-verein.de
SUMMARY:Wir besuchen das Beatles Museum
DESCRIPTION:Das Beatles Museum ist ein Museum über die Band Beatles.\nDie Beatles waren eine berühmte Musik-Gruppe.\nDas Museum ist das älteste Beatles Museum der Welt.\nEs ist auch das größte Beatles Museum der Welt.\nWir lernen etwas über die Geschichte der Beatles.\nWir hören Musik von den Beatles. \nTreffpunkt: Beatles Museum (Alter Markt 12\, 06108 Halle)\nUhrzeit: 15-17 Uhr\nKosten: Teilnahme-Beitrag (3€) + Eintritt (8€) + Eintritt Begleitperson (4€)= 15€ \nBitte meldet euch vorher an.\nSpätestens 2 Tage vor dem Freizeit-Treff
URL:https://lebenstraum-verein.de/veranstaltung/wir-besuchen-das-beatles-museum/
LOCATION:Beatlesmuseeum Halle\, Alter Markt 12\, Halle (Saale)\, Sachsen-Anhalt\, 06108\, Deutschland
CATEGORIES:Freizeitangebote,Freizeittreff
ORGANIZER;CN="Paula Buchholz":MAILTO:freizeittreff@lebenstraum-verein.de
END:VEVENT
END:VCALENDAR