BEGIN:VCALENDAR
VERSION:2.0
PRODID:-//Lebenstraum e.V. - ECPv6.15.20//NONSGML v1.0//EN
CALSCALE:GREGORIAN
METHOD:PUBLISH
X-WR-CALNAME:Lebenstraum e.V.
X-ORIGINAL-URL:https://lebenstraum-verein.de
X-WR-CALDESC:Veranstaltungen für Lebenstraum e.V.
REFRESH-INTERVAL;VALUE=DURATION:PT1H
X-Robots-Tag:noindex
X-PUBLISHED-TTL:PT1H
BEGIN:VTIMEZONE
TZID:Europe/Berlin
BEGIN:DAYLIGHT
TZOFFSETFROM:+0100
TZOFFSETTO:+0200
TZNAME:CEST
DTSTART:20240331T010000
END:DAYLIGHT
BEGIN:STANDARD
TZOFFSETFROM:+0200
TZOFFSETTO:+0100
TZNAME:CET
DTSTART:20241027T010000
END:STANDARD
BEGIN:DAYLIGHT
TZOFFSETFROM:+0100
TZOFFSETTO:+0200
TZNAME:CEST
DTSTART:20250330T010000
END:DAYLIGHT
BEGIN:STANDARD
TZOFFSETFROM:+0200
TZOFFSETTO:+0100
TZNAME:CET
DTSTART:20251026T010000
END:STANDARD
BEGIN:DAYLIGHT
TZOFFSETFROM:+0100
TZOFFSETTO:+0200
TZNAME:CEST
DTSTART:20260329T010000
END:DAYLIGHT
BEGIN:STANDARD
TZOFFSETFROM:+0200
TZOFFSETTO:+0100
TZNAME:CET
DTSTART:20261025T010000
END:STANDARD
END:VTIMEZONE
BEGIN:VEVENT
DTSTART;TZID=Europe/Berlin:20250914T160000
DTEND;TZID=Europe/Berlin:20250914T180000
DTSTAMP:20260422T210424
CREATED:20250822T065535Z
LAST-MODIFIED:20250822T065603Z
UID:13446-1757865600-1757872800@lebenstraum-verein.de
SUMMARY:Wir besuchen das Fontänen-Fest
DESCRIPTION:Die Fontäne auf der Ziegelwiese ist eine der größten in Europa.\nDas Fontänen-Fest findet einmal im Jahr statt.\nEs gibt viele leckere Essensstände.\nWir können uns eine Tanz-Auf-Führungen anschauen.\nDu kannst einer Band zuhören.\nUnd bei vielen Zelten schöne Dinge kaufen. \nTreffpunkt: auf der Steinmühlenbrücke (vor der Ziegelwiese))\nUhrzeit: 16 Uhr – 18 Uhr\nKosten: Teilnahme-Beitrag (3€) + Taschengeld = 3€ \nBitte meldet euch vorher an.\nSpätestens 2 Tage vor dem Freizeit-Treff
URL:https://lebenstraum-verein.de/veranstaltung/wir-besuchen-das-fontaenen-fest-2/
LOCATION:An der Fontäne\, Ziegelwiese\, Peißnitzstraße\, 06108 Halle (Saale)\, Sachsen-Anhalt\, 06108\, Deutschland
CATEGORIES:Freizeitangebote,Freizeittreff
ATTACH;FMTTYPE=image/webp:https://lebenstraum-verein.de/wp-content/uploads/2024/08/pexels-hilaryh-612341.webp
ORGANIZER;CN="Paula Buchholz":MAILTO:freizeittreff@lebenstraum-verein.de
END:VEVENT
END:VCALENDAR