BEGIN:VCALENDAR
VERSION:2.0
PRODID:-//Lebenstraum e.V. - ECPv6.15.20//NONSGML v1.0//EN
CALSCALE:GREGORIAN
METHOD:PUBLISH
X-WR-CALNAME:Lebenstraum e.V.
X-ORIGINAL-URL:https://lebenstraum-verein.de
X-WR-CALDESC:Veranstaltungen für Lebenstraum e.V.
REFRESH-INTERVAL;VALUE=DURATION:PT1H
X-Robots-Tag:noindex
X-PUBLISHED-TTL:PT1H
BEGIN:VTIMEZONE
TZID:Europe/Berlin
BEGIN:DAYLIGHT
TZOFFSETFROM:+0100
TZOFFSETTO:+0200
TZNAME:CEST
DTSTART:20240331T010000
END:DAYLIGHT
BEGIN:STANDARD
TZOFFSETFROM:+0200
TZOFFSETTO:+0100
TZNAME:CET
DTSTART:20241027T010000
END:STANDARD
BEGIN:DAYLIGHT
TZOFFSETFROM:+0100
TZOFFSETTO:+0200
TZNAME:CEST
DTSTART:20250330T010000
END:DAYLIGHT
BEGIN:STANDARD
TZOFFSETFROM:+0200
TZOFFSETTO:+0100
TZNAME:CET
DTSTART:20251026T010000
END:STANDARD
BEGIN:DAYLIGHT
TZOFFSETFROM:+0100
TZOFFSETTO:+0200
TZNAME:CEST
DTSTART:20260329T010000
END:DAYLIGHT
BEGIN:STANDARD
TZOFFSETFROM:+0200
TZOFFSETTO:+0100
TZNAME:CET
DTSTART:20261025T010000
END:STANDARD
END:VTIMEZONE
BEGIN:VEVENT
DTSTART;TZID=Europe/Berlin:20250209T110000
DTEND;TZID=Europe/Berlin:20250209T130000
DTSTAMP:20260423T053504
CREATED:20250131T084012Z
LAST-MODIFIED:20250131T084304Z
UID:12607-1739098800-1739106000@lebenstraum-verein.de
SUMMARY:Wir brunchen gemeinsam
DESCRIPTION:Wir holen unsere Neujahrs-Brunch nach!\nWir treffen uns in der Geschäftsstelle.\nWir bereiten den Brunch gemeinsam vor.\nDann werden wir es uns gemütlich machen und lecker essen.\nDabei wollen wir Wünsche für den Freizeit-Treff sammeln.\nUnd uns entspannt unterhalten. \nTreffpunkt: Geschäftsstelle Lebenstraum e.V. (Große Märkerstraße 14/15)\nUhrzeit: 11:00 – 13:00 Uhr\nKosten: Teilnahme-Beitrag (3€) + Einkauf (5€) = 8€ \nBitte meldet euch vorher an.\nSpätestens 48 Stunden vor dem Freizeit-Treff (meistens Montag-Abend)
URL:https://lebenstraum-verein.de/veranstaltung/wir-brunchen-gemeinsam/
LOCATION:Geschäftsstelle des Lebenstraum e.V.\, Große Märkerstraße 14/15\, Halle
CATEGORIES:Freizeitangebote,Freizeittreff
ATTACH;FMTTYPE=image/webp:https://lebenstraum-verein.de/wp-content/uploads/2025/01/pexels-jjagtenberg-103124.webp
ORGANIZER;CN="Paula Buchholz":MAILTO:freizeittreff@lebenstraum-verein.de
END:VEVENT
END:VCALENDAR