BEGIN:VCALENDAR
VERSION:2.0
PRODID:-//Lebenstraum e.V. - ECPv6.15.20//NONSGML v1.0//EN
CALSCALE:GREGORIAN
METHOD:PUBLISH
X-WR-CALNAME:Lebenstraum e.V.
X-ORIGINAL-URL:https://lebenstraum-verein.de
X-WR-CALDESC:Veranstaltungen für Lebenstraum e.V.
REFRESH-INTERVAL;VALUE=DURATION:PT1H
X-Robots-Tag:noindex
X-PUBLISHED-TTL:PT1H
BEGIN:VTIMEZONE
TZID:Europe/Berlin
BEGIN:DAYLIGHT
TZOFFSETFROM:+0100
TZOFFSETTO:+0200
TZNAME:CEST
DTSTART:20210328T010000
END:DAYLIGHT
BEGIN:STANDARD
TZOFFSETFROM:+0200
TZOFFSETTO:+0100
TZNAME:CET
DTSTART:20211031T010000
END:STANDARD
BEGIN:DAYLIGHT
TZOFFSETFROM:+0100
TZOFFSETTO:+0200
TZNAME:CEST
DTSTART:20220327T010000
END:DAYLIGHT
BEGIN:STANDARD
TZOFFSETFROM:+0200
TZOFFSETTO:+0100
TZNAME:CET
DTSTART:20221030T010000
END:STANDARD
BEGIN:DAYLIGHT
TZOFFSETFROM:+0100
TZOFFSETTO:+0200
TZNAME:CEST
DTSTART:20230326T010000
END:DAYLIGHT
BEGIN:STANDARD
TZOFFSETFROM:+0200
TZOFFSETTO:+0100
TZNAME:CET
DTSTART:20231029T010000
END:STANDARD
END:VTIMEZONE
BEGIN:VEVENT
DTSTART;TZID=Europe/Berlin:20220427T163000
DTEND;TZID=Europe/Berlin:20220427T183000
DTSTAMP:20260420T111636
CREATED:20220318T103809Z
LAST-MODIFIED:20220318T103900Z
UID:6326-1651077000-1651084200@lebenstraum-verein.de
SUMMARY:Wir gehen in den Zoo
DESCRIPTION:Wir treffen uns am Eingang zum Zoo.\nJeder kauft sich eine Eintritts-Karte.\nDann gehen wir in den Zoo.\nDort gibt es Elefanten\, Erd-Männchen und Pinguine.\nEs gibt dort aber noch viel mehr Tiere.\nWir schauen uns die vielen Tiere an. \nTreffpunkt: Bergzoo Halle (Reilstraße 57\, 06114 Halle)\nUhrzeit: 16:30 Uhr – 18:30 Uhr\nKosten: Teilnahme-Beitrag (3€) + Eintritt (9\,50€) = 12\,50 €
URL:https://lebenstraum-verein.de/veranstaltung/wir-gehen-in-den-zoo/
LOCATION:Bergzoo Halle\, Reilstraße 57\, Halle (Saale)\, Sachsen-Anhalt\, 06114\, Deutschland
CATEGORIES:Freizeitangebote,Freizeittreff
ATTACH;FMTTYPE=image/jpeg:https://lebenstraum-verein.de/wp-content/uploads/2022/03/Zoo-Halle-Aussenansicht.jpg
ORGANIZER;CN="Isabelle Beutel-Simbt":MAILTO:freizeittreff@lebenstraum-verein.de
END:VEVENT
END:VCALENDAR