BEGIN:VCALENDAR
VERSION:2.0
PRODID:-//Lebenstraum e.V. - ECPv6.15.20//NONSGML v1.0//EN
CALSCALE:GREGORIAN
METHOD:PUBLISH
X-WR-CALNAME:Lebenstraum e.V.
X-ORIGINAL-URL:https://lebenstraum-verein.de
X-WR-CALDESC:Veranstaltungen für Lebenstraum e.V.
REFRESH-INTERVAL;VALUE=DURATION:PT1H
X-Robots-Tag:noindex
X-PUBLISHED-TTL:PT1H
BEGIN:VTIMEZONE
TZID:Europe/Berlin
BEGIN:DAYLIGHT
TZOFFSETFROM:+0100
TZOFFSETTO:+0200
TZNAME:CEST
DTSTART:20230326T010000
END:DAYLIGHT
BEGIN:STANDARD
TZOFFSETFROM:+0200
TZOFFSETTO:+0100
TZNAME:CET
DTSTART:20231029T010000
END:STANDARD
BEGIN:DAYLIGHT
TZOFFSETFROM:+0100
TZOFFSETTO:+0200
TZNAME:CEST
DTSTART:20240331T010000
END:DAYLIGHT
BEGIN:STANDARD
TZOFFSETFROM:+0200
TZOFFSETTO:+0100
TZNAME:CET
DTSTART:20241027T010000
END:STANDARD
BEGIN:DAYLIGHT
TZOFFSETFROM:+0100
TZOFFSETTO:+0200
TZNAME:CEST
DTSTART:20250330T010000
END:DAYLIGHT
BEGIN:STANDARD
TZOFFSETFROM:+0200
TZOFFSETTO:+0100
TZNAME:CET
DTSTART:20251026T010000
END:STANDARD
END:VTIMEZONE
BEGIN:VEVENT
DTSTART;TZID=Europe/Berlin:20240731T170000
DTEND;TZID=Europe/Berlin:20240731T190000
DTSTAMP:20260423T123835
CREATED:20240623T170825Z
LAST-MODIFIED:20240623T170825Z
UID:10915-1722445200-1722452400@lebenstraum-verein.de
SUMMARY:Wir gehen ins Freibad
DESCRIPTION:Die Sonne scheint\, der Sommer ist da!\nLasst uns gemeinsam abkühlen im Freibad.\nDu kannst dich auf der Wiese entspannen.\nDu kannst schwimmen oder Wasserball spielen.\nWir können uns ein Eis holen\, Spiele spielen und uns unterhalten. \nTreffpunkt:\nMansfelder Str. 50a\, 06108 Halle \nUhrzeit: 17 Uhr – 19 Uhr\nKosten: Teilnahme-Beitrag (3€) + Eintritt (3€) = 6€
URL:https://lebenstraum-verein.de/veranstaltung/wir-gehen-ins-freibad/
LOCATION:Saline\, Mansfelderstr. 50\, Halle (Saale)\, Sachsen-Anhalt\, 06108\, Deutschland
CATEGORIES:Freizeitangebote,Freizeittreff
ATTACH;FMTTYPE=image/webp:https://lebenstraum-verein.de/wp-content/uploads/2024/06/pexels-freestockpro-1006311.webp
ORGANIZER;CN="Paula Buchholz":MAILTO:freizeittreff@lebenstraum-verein.de
END:VEVENT
END:VCALENDAR