BEGIN:VCALENDAR
VERSION:2.0
PRODID:-//Lebenstraum e.V. - ECPv6.15.20//NONSGML v1.0//EN
CALSCALE:GREGORIAN
METHOD:PUBLISH
X-WR-CALNAME:Lebenstraum e.V.
X-ORIGINAL-URL:https://lebenstraum-verein.de
X-WR-CALDESC:Veranstaltungen für Lebenstraum e.V.
REFRESH-INTERVAL;VALUE=DURATION:PT1H
X-Robots-Tag:noindex
X-PUBLISHED-TTL:PT1H
BEGIN:VTIMEZONE
TZID:Europe/Berlin
BEGIN:DAYLIGHT
TZOFFSETFROM:+0100
TZOFFSETTO:+0200
TZNAME:CEST
DTSTART:20240331T010000
END:DAYLIGHT
BEGIN:STANDARD
TZOFFSETFROM:+0200
TZOFFSETTO:+0100
TZNAME:CET
DTSTART:20241027T010000
END:STANDARD
BEGIN:DAYLIGHT
TZOFFSETFROM:+0100
TZOFFSETTO:+0200
TZNAME:CEST
DTSTART:20250330T010000
END:DAYLIGHT
BEGIN:STANDARD
TZOFFSETFROM:+0200
TZOFFSETTO:+0100
TZNAME:CET
DTSTART:20251026T010000
END:STANDARD
BEGIN:DAYLIGHT
TZOFFSETFROM:+0100
TZOFFSETTO:+0200
TZNAME:CEST
DTSTART:20260329T010000
END:DAYLIGHT
BEGIN:STANDARD
TZOFFSETFROM:+0200
TZOFFSETTO:+0100
TZNAME:CET
DTSTART:20261025T010000
END:STANDARD
END:VTIMEZONE
BEGIN:VEVENT
DTSTART;TZID=Europe/Berlin:20250330T144500
DTEND;TZID=Europe/Berlin:20250330T164500
DTSTAMP:20260422T124506
CREATED:20250218T154337Z
LAST-MODIFIED:20250218T154337Z
UID:12702-1743345900-1743353100@lebenstraum-verein.de
SUMMARY:Wir gehen ins Kino
DESCRIPTION:Wir treffen uns vor dem Pusch-Kino.\nHier schauen wir den Film \,\,Paddington in Peru“.\nDer Film ist sehr lustig.\nEs geht um den tollpatschigen Bären Paddington.\nPaddington reist nach Peru\, um seine Tante zu besuchen.\nDoch seine Tante ist verschwunden.\nPaddington macht sich auf die Suche und ein großes Abenteuer beginnt. \nTreffpunkt: vor dem Puschkino (Kardinal-Albrecht-Straße 6\, 06108 Halle)\nUhrzeit: 14:45 Uhr – 16:45 Uhr\nKosten: Teilnahme-Beitrag (3€) + Eintritt (7€) = 10€ \nBitte meldet euch vorher an.\nSpätestens 2 Tage vor dem Freizeit-Treff
URL:https://lebenstraum-verein.de/veranstaltung/wir-gehen-ins-kino-2/
LOCATION:Pusch Kino\, Kardinal-Albrecht-Straße 6\, Halle (Saale)\, Sachsen-Anhalt\, 06108\, Germany
CATEGORIES:Freizeitangebote,Freizeittreff
ATTACH;FMTTYPE=image/jpeg:https://lebenstraum-verein.de/wp-content/uploads/2022/10/Kino.jpg
ORGANIZER;CN="Paula Buchholz":MAILTO:freizeittreff@lebenstraum-verein.de
END:VEVENT
END:VCALENDAR