BEGIN:VCALENDAR
VERSION:2.0
PRODID:-//Lebenstraum e.V. - ECPv6.15.20//NONSGML v1.0//EN
CALSCALE:GREGORIAN
METHOD:PUBLISH
X-WR-CALNAME:Lebenstraum e.V.
X-ORIGINAL-URL:https://lebenstraum-verein.de
X-WR-CALDESC:Veranstaltungen für Lebenstraum e.V.
REFRESH-INTERVAL;VALUE=DURATION:PT1H
X-Robots-Tag:noindex
X-PUBLISHED-TTL:PT1H
BEGIN:VTIMEZONE
TZID:Europe/Berlin
BEGIN:DAYLIGHT
TZOFFSETFROM:+0100
TZOFFSETTO:+0200
TZNAME:CEST
DTSTART:20230326T010000
END:DAYLIGHT
BEGIN:STANDARD
TZOFFSETFROM:+0200
TZOFFSETTO:+0100
TZNAME:CET
DTSTART:20231029T010000
END:STANDARD
BEGIN:DAYLIGHT
TZOFFSETFROM:+0100
TZOFFSETTO:+0200
TZNAME:CEST
DTSTART:20240331T010000
END:DAYLIGHT
BEGIN:STANDARD
TZOFFSETFROM:+0200
TZOFFSETTO:+0100
TZNAME:CET
DTSTART:20241027T010000
END:STANDARD
BEGIN:DAYLIGHT
TZOFFSETFROM:+0100
TZOFFSETTO:+0200
TZNAME:CEST
DTSTART:20250330T010000
END:DAYLIGHT
BEGIN:STANDARD
TZOFFSETFROM:+0200
TZOFFSETTO:+0100
TZNAME:CET
DTSTART:20251026T010000
END:STANDARD
END:VTIMEZONE
BEGIN:VEVENT
DTSTART;TZID=Europe/Berlin:20240327T170000
DTEND;TZID=Europe/Berlin:20240327T190000
DTSTAMP:20260423T102346
CREATED:20240216T110212Z
LAST-MODIFIED:20240322T091017Z
UID:10629-1711558800-1711566000@lebenstraum-verein.de
SUMMARY:Wir gehen ins Kino
DESCRIPTION:Wir treffen uns vor dem Charlotten-Center.\nIhr könnt euch einen Snack oder ein Getränk kaufen.\nDann schauen wir einen Film: Chantal im Märchenland \nDer Film ist eine „Fantasy-Komödie“. Die Karten müssen vorher reserviert werden. \nBitte meldet euch deshalb bis Ende der Woche an! \nWir treffen uns schon um 16:45 vor dem Kino\, da der Film um 17 Uhr startet.\nHier noch der Link zum Film-Trailer: CHANTAL IM MÄRCHENLAND Trailer German Deutsch (2024) Jella Haase\, Elyas M’Barek (youtube.com)\nTreffpunkt: vor dem Charlotten-Center\, Charlottenstraße 8\, 06108 Halle\nca. 17:00 – 19:00 Uhr\nKosten: Teilnahme-Beitrag (3€) + Eintritt (6€) + Taschengeld = 9€
URL:https://lebenstraum-verein.de/veranstaltung/wir-gehen-ins-kino/
LOCATION:Charlotten Center\, Charlottenstraße 8\, 06108 Halle (Saale)\, 06108\, Deutschland
CATEGORIES:Freizeitangebote,Freizeittreff
ATTACH;FMTTYPE=image/jpeg:https://lebenstraum-verein.de/wp-content/uploads/2022/10/Kino.jpg
ORGANIZER;CN="Paula Buchholz":MAILTO:freizeittreff@lebenstraum-verein.de
END:VEVENT
END:VCALENDAR