BEGIN:VCALENDAR
VERSION:2.0
PRODID:-//Lebenstraum e.V. - ECPv6.15.20//NONSGML v1.0//EN
CALSCALE:GREGORIAN
METHOD:PUBLISH
X-WR-CALNAME:Lebenstraum e.V.
X-ORIGINAL-URL:https://lebenstraum-verein.de
X-WR-CALDESC:Veranstaltungen für Lebenstraum e.V.
REFRESH-INTERVAL;VALUE=DURATION:PT1H
X-Robots-Tag:noindex
X-PUBLISHED-TTL:PT1H
BEGIN:VTIMEZONE
TZID:Europe/Berlin
BEGIN:DAYLIGHT
TZOFFSETFROM:+0100
TZOFFSETTO:+0200
TZNAME:CEST
DTSTART:20210328T010000
END:DAYLIGHT
BEGIN:STANDARD
TZOFFSETFROM:+0200
TZOFFSETTO:+0100
TZNAME:CET
DTSTART:20211031T010000
END:STANDARD
BEGIN:DAYLIGHT
TZOFFSETFROM:+0100
TZOFFSETTO:+0200
TZNAME:CEST
DTSTART:20220327T010000
END:DAYLIGHT
BEGIN:STANDARD
TZOFFSETFROM:+0200
TZOFFSETTO:+0100
TZNAME:CET
DTSTART:20221030T010000
END:STANDARD
BEGIN:DAYLIGHT
TZOFFSETFROM:+0100
TZOFFSETTO:+0200
TZNAME:CEST
DTSTART:20230326T010000
END:DAYLIGHT
BEGIN:STANDARD
TZOFFSETFROM:+0200
TZOFFSETTO:+0100
TZNAME:CET
DTSTART:20231029T010000
END:STANDARD
END:VTIMEZONE
BEGIN:VEVENT
DTSTART;TZID=Europe/Berlin:20220523T170000
DTEND;TZID=Europe/Berlin:20220523T190000
DTSTAMP:20260424T071008
CREATED:20220429T132013Z
LAST-MODIFIED:20220429T132208Z
UID:6799-1653325200-1653332400@lebenstraum-verein.de
SUMMARY:Wir gehen Mini-Golf spielen!
DESCRIPTION:Wir treffen uns am Eingang vom Mini-Golf-Platz.\nJeder kauft sich eine Eintritts-Karte.\nDann spielen wir Minigolf. \n  \nTreffpunkt: Sportparadies Minigolfanlage am Böllberger Weg \nKosten: Teilnahme-Beitrag (3€) + Eintritt (4€) = 7€
URL:https://lebenstraum-verein.de/veranstaltung/wir-gehen-mini-golf-spielen/
LOCATION:Minigolfanlage Sportparadies Halle\, Böllberger Weg 185\, Halle\, Sachsen-Anhalt\, 06110\, Deutschland
CATEGORIES:Freizeittreff
ATTACH;FMTTYPE=image/jpeg:https://lebenstraum-verein.de/wp-content/uploads/2022/04/mini-golf-g52cd0c32a_1920.jpg
ORGANIZER;CN="Paula Buchholz":MAILTO:freizeittreff@lebenstraum-verein.de
END:VEVENT
END:VCALENDAR