BEGIN:VCALENDAR
VERSION:2.0
PRODID:-//Lebenstraum e.V. - ECPv6.15.20//NONSGML v1.0//EN
CALSCALE:GREGORIAN
METHOD:PUBLISH
X-WR-CALNAME:Lebenstraum e.V.
X-ORIGINAL-URL:https://lebenstraum-verein.de
X-WR-CALDESC:Veranstaltungen für Lebenstraum e.V.
REFRESH-INTERVAL;VALUE=DURATION:PT1H
X-Robots-Tag:noindex
X-PUBLISHED-TTL:PT1H
BEGIN:VTIMEZONE
TZID:Europe/Berlin
BEGIN:DAYLIGHT
TZOFFSETFROM:+0100
TZOFFSETTO:+0200
TZNAME:CEST
DTSTART:20210328T010000
END:DAYLIGHT
BEGIN:STANDARD
TZOFFSETFROM:+0200
TZOFFSETTO:+0100
TZNAME:CET
DTSTART:20211031T010000
END:STANDARD
BEGIN:DAYLIGHT
TZOFFSETFROM:+0100
TZOFFSETTO:+0200
TZNAME:CEST
DTSTART:20220327T010000
END:DAYLIGHT
BEGIN:STANDARD
TZOFFSETFROM:+0200
TZOFFSETTO:+0100
TZNAME:CET
DTSTART:20221030T010000
END:STANDARD
BEGIN:DAYLIGHT
TZOFFSETFROM:+0100
TZOFFSETTO:+0200
TZNAME:CEST
DTSTART:20230326T010000
END:DAYLIGHT
BEGIN:STANDARD
TZOFFSETFROM:+0200
TZOFFSETTO:+0100
TZNAME:CET
DTSTART:20231029T010000
END:STANDARD
END:VTIMEZONE
BEGIN:VEVENT
DTSTART;TZID=Europe/Berlin:20220330T163000
DTEND;TZID=Europe/Berlin:20220330T190000
DTSTAMP:20260424T083641
CREATED:20220301T135839Z
LAST-MODIFIED:20220301T135839Z
UID:5787-1648657800-1648666800@lebenstraum-verein.de
SUMMARY:Wir gehen Trampolin springen
DESCRIPTION:Wir treffen uns an der End–Halte–Stelle Trotha.Dann laufen wir alle gemeinsam zum Trampolin–Park.Dort gibt es ganz viele Trampolins.Auf den Trampolins können wir sehr hoch springen.Das dürfen wir aber nur mit besonderen Socken.Die Socken können wir dort kaufen. \nTreffpunkt: Straßen–Bahn End–Halte–Stelle TrothaUhrzeit: 16:30 Uhr – 19:00 UhrKosten: Teilnahme–Beitrag (3 €) + Eintritt (16 €) + Sprung–Socken (3 €) = 24 € \nEs gelten 2G Regeln für alle.Ganz wichtig: Ihr müsst den Nachweis im Original mit bringen.
URL:https://lebenstraum-verein.de/veranstaltung/wir-gehen-trampolin-springen/
LOCATION:Trampolinpark Halle\, Magdeburger Chaussee 47\, Halle\, Sachsen-Anhalt\, 06118\, Deutschland
CATEGORIES:Freizeitangebote,Freizeittreff
ATTACH;FMTTYPE=image/jpeg:https://lebenstraum-verein.de/wp-content/uploads/2022/03/Trampolin.jpg
ORGANIZER;CN="Isabelle Beutel-Simbt":MAILTO:freizeittreff@lebenstraum-verein.de
END:VEVENT
END:VCALENDAR