BEGIN:VCALENDAR
VERSION:2.0
PRODID:-//Lebenstraum e.V. - ECPv6.15.20//NONSGML v1.0//EN
CALSCALE:GREGORIAN
METHOD:PUBLISH
X-WR-CALNAME:Lebenstraum e.V.
X-ORIGINAL-URL:https://lebenstraum-verein.de
X-WR-CALDESC:Veranstaltungen für Lebenstraum e.V.
REFRESH-INTERVAL;VALUE=DURATION:PT1H
X-Robots-Tag:noindex
X-PUBLISHED-TTL:PT1H
BEGIN:VTIMEZONE
TZID:Europe/Berlin
BEGIN:DAYLIGHT
TZOFFSETFROM:+0100
TZOFFSETTO:+0200
TZNAME:CEST
DTSTART:20220327T010000
END:DAYLIGHT
BEGIN:STANDARD
TZOFFSETFROM:+0200
TZOFFSETTO:+0100
TZNAME:CET
DTSTART:20221030T010000
END:STANDARD
BEGIN:DAYLIGHT
TZOFFSETFROM:+0100
TZOFFSETTO:+0200
TZNAME:CEST
DTSTART:20230326T010000
END:DAYLIGHT
BEGIN:STANDARD
TZOFFSETFROM:+0200
TZOFFSETTO:+0100
TZNAME:CET
DTSTART:20231029T010000
END:STANDARD
BEGIN:DAYLIGHT
TZOFFSETFROM:+0100
TZOFFSETTO:+0200
TZNAME:CEST
DTSTART:20240331T010000
END:DAYLIGHT
BEGIN:STANDARD
TZOFFSETFROM:+0200
TZOFFSETTO:+0100
TZNAME:CET
DTSTART:20241027T010000
END:STANDARD
END:VTIMEZONE
BEGIN:VEVENT
DTSTART;TZID=Europe/Berlin:20230510T170000
DTEND;TZID=Europe/Berlin:20230510T190000
DTSTAMP:20260420T111857
CREATED:20230509T112856Z
LAST-MODIFIED:20230509T112856Z
UID:9458-1683738000-1683745200@lebenstraum-verein.de
SUMMARY:Wir gehen zum Peißnitzhaus!
DESCRIPTION:WAS MACHEN WIR?\nWir treffen uns an der Halte-Stelle Diakoniewerk.\nDann gehen wir gemeinsam spazieren.\nWir gehen zum Peißnitzhaus.\nDort genießen wir das schöne Wetter.\nMan kann sich kalte Getränke kaufen.\nEs gibt auch etwas zu essen. \nTREFFPUNKT:\nStraßen-Bahn-Halte-Stelle Diakoniewerk\nHalle Mühlweg 06114 Halle \nKOSTEN\nTeilnahme-Beitrag (3€) + Taschengeld \nWie melde ich mich an?\nBitte denkt daran\, dass ihr euch vorher anmelden müsst.\nFür uns ist eine frühzeitige Anmeldung am besten.\nBitte erledigt das spätestens 24h vorher!\nIhr könnt eine E-Mail schreiben: kontakt@lebenstraum-verein.de\nIhr könnt auch anrufen: 0345 52 00 25 1\nWir freuen uns auf euch! \n  \n 
URL:https://lebenstraum-verein.de/veranstaltung/wir-gehen-zum-peissnitzhaus-2/
LOCATION:Straßenbahn-Haltestelle: Diakoniewerk Halle\, Mühlweg\, Halle\, Sachsen-Anhalt\, 06114\, Deutschland
CATEGORIES:Freizeitangebote,Freizeittreff
ATTACH;FMTTYPE=image/jpeg:https://lebenstraum-verein.de/wp-content/uploads/2022/07/Waldspaziergang.jpg
ORGANIZER;CN="Paula Buchholz":MAILTO:freizeittreff@lebenstraum-verein.de
END:VEVENT
END:VCALENDAR