BEGIN:VCALENDAR
VERSION:2.0
PRODID:-//Lebenstraum e.V. - ECPv6.15.20//NONSGML v1.0//EN
CALSCALE:GREGORIAN
METHOD:PUBLISH
X-WR-CALNAME:Lebenstraum e.V.
X-ORIGINAL-URL:https://lebenstraum-verein.de
X-WR-CALDESC:Veranstaltungen für Lebenstraum e.V.
REFRESH-INTERVAL;VALUE=DURATION:PT1H
X-Robots-Tag:noindex
X-PUBLISHED-TTL:PT1H
BEGIN:VTIMEZONE
TZID:Europe/Berlin
BEGIN:DAYLIGHT
TZOFFSETFROM:+0100
TZOFFSETTO:+0200
TZNAME:CEST
DTSTART:20240331T010000
END:DAYLIGHT
BEGIN:STANDARD
TZOFFSETFROM:+0200
TZOFFSETTO:+0100
TZNAME:CET
DTSTART:20241027T010000
END:STANDARD
BEGIN:DAYLIGHT
TZOFFSETFROM:+0100
TZOFFSETTO:+0200
TZNAME:CEST
DTSTART:20250330T010000
END:DAYLIGHT
BEGIN:STANDARD
TZOFFSETFROM:+0200
TZOFFSETTO:+0100
TZNAME:CET
DTSTART:20251026T010000
END:STANDARD
BEGIN:DAYLIGHT
TZOFFSETFROM:+0100
TZOFFSETTO:+0200
TZNAME:CEST
DTSTART:20260329T010000
END:DAYLIGHT
BEGIN:STANDARD
TZOFFSETFROM:+0200
TZOFFSETTO:+0100
TZNAME:CET
DTSTART:20261025T010000
END:STANDARD
END:VTIMEZONE
BEGIN:VEVENT
DTSTART;TZID=Europe/Berlin:20250409T150000
DTEND;TZID=Europe/Berlin:20250409T170000
DTSTAMP:20260422T160950
CREATED:20250328T074219Z
LAST-MODIFIED:20250328T074219Z
UID:12809-1744210800-1744218000@lebenstraum-verein.de
SUMMARY:Wir gehen zum Tag der Offenen Tür
DESCRIPTION:Der Allgemeine Behindertenverband in Halle lädt ein.\nZum Tag der Offenen Tür.\nEs wird Stände mit Essen und Getränken geben.\nUnd wir können bei den Programm-Punkten zuschauen.\nIhr könnt auch gerne später dazukommen.\nDer Tag der Offenen Tür endet um 17 Uhr. \nTreffpunkt: Haltestelle Neustadt Zentrum\nUhrzeit: 15 Uhr – 17 Uhr\nKosten: Teilnahme-Beitrag (3€) + Taschengeld = 3€ \nBitte meldet euch vorher an.\nSpätestens 2 Tage vor dem Freizeit-Treff
URL:https://lebenstraum-verein.de/veranstaltung/wir-gehen-zum-tag-der-offenen-tuer/
LOCATION:Straßenbahn-Haltestelle:\, an der Magistrale 61\, Halle (Saale)\, Sachsen-Anhalt\, 06124\, Germany
CATEGORIES:Freizeitangebote,Freizeittreff
ATTACH;FMTTYPE=image/webp:https://lebenstraum-verein.de/wp-content/uploads/2025/03/Behindertenverband.webp
ORGANIZER;CN="Paula Buchholz":MAILTO:freizeittreff@lebenstraum-verein.de
END:VEVENT
END:VCALENDAR