BEGIN:VCALENDAR
VERSION:2.0
PRODID:-//Lebenstraum e.V. - ECPv6.15.20//NONSGML v1.0//EN
CALSCALE:GREGORIAN
METHOD:PUBLISH
X-WR-CALNAME:Lebenstraum e.V.
X-ORIGINAL-URL:https://lebenstraum-verein.de
X-WR-CALDESC:Veranstaltungen für Lebenstraum e.V.
REFRESH-INTERVAL;VALUE=DURATION:PT1H
X-Robots-Tag:noindex
X-PUBLISHED-TTL:PT1H
BEGIN:VTIMEZONE
TZID:Europe/Berlin
BEGIN:DAYLIGHT
TZOFFSETFROM:+0100
TZOFFSETTO:+0200
TZNAME:CEST
DTSTART:20240331T010000
END:DAYLIGHT
BEGIN:STANDARD
TZOFFSETFROM:+0200
TZOFFSETTO:+0100
TZNAME:CET
DTSTART:20241027T010000
END:STANDARD
BEGIN:DAYLIGHT
TZOFFSETFROM:+0100
TZOFFSETTO:+0200
TZNAME:CEST
DTSTART:20250330T010000
END:DAYLIGHT
BEGIN:STANDARD
TZOFFSETFROM:+0200
TZOFFSETTO:+0100
TZNAME:CET
DTSTART:20251026T010000
END:STANDARD
BEGIN:DAYLIGHT
TZOFFSETFROM:+0100
TZOFFSETTO:+0200
TZNAME:CEST
DTSTART:20260329T010000
END:DAYLIGHT
BEGIN:STANDARD
TZOFFSETFROM:+0200
TZOFFSETTO:+0100
TZNAME:CET
DTSTART:20261025T010000
END:STANDARD
END:VTIMEZONE
BEGIN:VEVENT
DTSTART;TZID=Europe/Berlin:20251108T160000
DTEND;TZID=Europe/Berlin:20251108T180000
DTSTAMP:20260421T101256
CREATED:20251013T130405Z
LAST-MODIFIED:20251013T130405Z
UID:13520-1762617600-1762624800@lebenstraum-verein.de
SUMMARY:Wir gehen zur Halloweenparty
DESCRIPTION:Das Voithea-Wohnheim hat uns eingeladen.\nZu einer Halloween-Disco.\nIhr könnt gerne im Kostüm kommen.\nDer Eintritt ist frei.\nIhr könnt euch Getränke und Snacks kaufen. \nTreffpunkt: an der Haltestelle Melanchtonstraße\, Beesenerstraße 15\, 06110 Halle (Saale)\nUhrzeit: 16 Uhr – 18 Uhr\nKosten: Teilnahme-Beitrag (3€) + Taschengeld = 3€ \nBitte meldet euch vorher an.\nSpätestens 2 Tage vor dem Freizeit-Treff
URL:https://lebenstraum-verein.de/veranstaltung/wir-gehen-zur-halloweenparty/
LOCATION:an der Haltestelle Melanchtonstraße\, Beesenerstraße 15\, Halle (Saale)\, Sachsen-Anhalt\, 06110\, Germany
CATEGORIES:Freizeitangebote,Freizeittreff
ATTACH;FMTTYPE=image/jpeg:https://lebenstraum-verein.de/wp-content/uploads/2023/11/halloween-scaled.jpg
ORGANIZER;CN="Paula Buchholz":MAILTO:freizeittreff@lebenstraum-verein.de
END:VEVENT
END:VCALENDAR