BEGIN:VCALENDAR
VERSION:2.0
PRODID:-//Lebenstraum e.V. - ECPv6.15.20//NONSGML v1.0//EN
CALSCALE:GREGORIAN
METHOD:PUBLISH
X-WR-CALNAME:Lebenstraum e.V.
X-ORIGINAL-URL:https://lebenstraum-verein.de
X-WR-CALDESC:Veranstaltungen für Lebenstraum e.V.
REFRESH-INTERVAL;VALUE=DURATION:PT1H
X-Robots-Tag:noindex
X-PUBLISHED-TTL:PT1H
BEGIN:VTIMEZONE
TZID:Europe/Berlin
BEGIN:DAYLIGHT
TZOFFSETFROM:+0100
TZOFFSETTO:+0200
TZNAME:CEST
DTSTART:20230326T010000
END:DAYLIGHT
BEGIN:STANDARD
TZOFFSETFROM:+0200
TZOFFSETTO:+0100
TZNAME:CET
DTSTART:20231029T010000
END:STANDARD
BEGIN:DAYLIGHT
TZOFFSETFROM:+0100
TZOFFSETTO:+0200
TZNAME:CEST
DTSTART:20240331T010000
END:DAYLIGHT
BEGIN:STANDARD
TZOFFSETFROM:+0200
TZOFFSETTO:+0100
TZNAME:CET
DTSTART:20241027T010000
END:STANDARD
BEGIN:DAYLIGHT
TZOFFSETFROM:+0100
TZOFFSETTO:+0200
TZNAME:CEST
DTSTART:20250330T010000
END:DAYLIGHT
BEGIN:STANDARD
TZOFFSETFROM:+0200
TZOFFSETTO:+0100
TZNAME:CET
DTSTART:20251026T010000
END:STANDARD
END:VTIMEZONE
BEGIN:VEVENT
DTSTART;TZID=Europe/Berlin:20240713T130000
DTEND;TZID=Europe/Berlin:20240713T150000
DTSTAMP:20260423T085144
CREATED:20240623T165637Z
LAST-MODIFIED:20240623T165637Z
UID:10908-1720875600-1720882800@lebenstraum-verein.de
SUMMARY:Wir gehen zur Kunstausstellung
DESCRIPTION:Wir gehen zur Kunstausstellung  \nWir besuchen die Jahres-Ausstellung.\nHier zeigen die Studierenden der Kunsthochschule ihre Kunst.\nDie Jahres-Ausstellung ist ein großes Kunstfest für ein Wochenende.\nEs gibt es Essen\, Trinken\, Musik und ganz viel Kunst.\nWir werden uns am Neuwerk Campus treffen.\nHier können wir Kunst aus dem Textildesign\, Industriedesign und Spiel- und Lerndesign sehen.\nDann fahren wir zum Hermes.\nDort stellen die Malereiklassen ihre Kunst aus. \nTreffpunkt:\nvor dem Neuwerk Campus\,\nNeuwerk 7\,\n06108 Halle \nUhrzeit: 13 bis 15 Uhr\nKosten: Teilnahme-Beitrag (3€) + Taschengeld = 3€
URL:https://lebenstraum-verein.de/veranstaltung/wir-gehen-zur-kunstausstellung/
LOCATION:Neuwerk Campus\, Neuwerk 7\, Halle (Saale)\, Sachsen-Anhalt\, 06108\, Deutschland
CATEGORIES:Freizeitangebote,Freizeittreff
ATTACH;FMTTYPE=image/webp:https://lebenstraum-verein.de/wp-content/uploads/2024/06/vincent-tantardini-hWlvhJAxkIw-unsplash.webp
ORGANIZER;CN="Paula Buchholz":MAILTO:freizeittreff@lebenstraum-verein.de
END:VEVENT
END:VCALENDAR