BEGIN:VCALENDAR
VERSION:2.0
PRODID:-//Lebenstraum e.V. - ECPv6.15.20//NONSGML v1.0//EN
CALSCALE:GREGORIAN
METHOD:PUBLISH
X-WR-CALNAME:Lebenstraum e.V.
X-ORIGINAL-URL:https://lebenstraum-verein.de
X-WR-CALDESC:Veranstaltungen für Lebenstraum e.V.
REFRESH-INTERVAL;VALUE=DURATION:PT1H
X-Robots-Tag:noindex
X-PUBLISHED-TTL:PT1H
BEGIN:VTIMEZONE
TZID:Europe/Berlin
BEGIN:DAYLIGHT
TZOFFSETFROM:+0100
TZOFFSETTO:+0200
TZNAME:CEST
DTSTART:20250330T010000
END:DAYLIGHT
BEGIN:STANDARD
TZOFFSETFROM:+0200
TZOFFSETTO:+0100
TZNAME:CET
DTSTART:20251026T010000
END:STANDARD
BEGIN:DAYLIGHT
TZOFFSETFROM:+0100
TZOFFSETTO:+0200
TZNAME:CEST
DTSTART:20260329T010000
END:DAYLIGHT
BEGIN:STANDARD
TZOFFSETFROM:+0200
TZOFFSETTO:+0100
TZNAME:CET
DTSTART:20261025T010000
END:STANDARD
BEGIN:DAYLIGHT
TZOFFSETFROM:+0100
TZOFFSETTO:+0200
TZNAME:CEST
DTSTART:20270328T010000
END:DAYLIGHT
BEGIN:STANDARD
TZOFFSETFROM:+0200
TZOFFSETTO:+0100
TZNAME:CET
DTSTART:20271031T010000
END:STANDARD
END:VTIMEZONE
BEGIN:VEVENT
DTSTART;TZID=Europe/Berlin:20260430T160000
DTEND;TZID=Europe/Berlin:20260430T180000
DTSTAMP:20260420T212237
CREATED:20260420T134301Z
LAST-MODIFIED:20260420T134520Z
UID:13938-1777564800-1777572000@lebenstraum-verein.de
SUMMARY:Wir gestalten Plakate und Transparente für die Demonstration am 5. Mai
DESCRIPTION:Was machen wir? \nWir planen eine Demo. \nUnd wir wollen Schilder für die Demo basteln. \nAlle können mitmachen. \n  \nFür wen ist die Veranstaltung?\nMenschen mit Behinderungen\nihre gesetzlichen Betreuer\nEltern\nInteressierte \nWenn Sie eine Begleitung zu der Veranstaltung benötigen\, dann melden Sie sich bitte. \nWie melde ich mich an? \nMagdeburger Straße 33 \nOder über Email: teilhabezentrum@lebenstraum-verein.de \nOder per Telefon: 0345 – 520 02 51
URL:https://lebenstraum-verein.de/veranstaltung/wir-gestalten-plakate-und-transparente-fuer-die-demonstration-am-5-mai-2/
LOCATION:Teilhabezentrum Mitte\, Magdeburger Straße 33\, Halle (Saale)\, Sachsen-Anhalt\, 06112\, Germany
CATEGORIES:Freizeitangebote,Protesttag,Teilhabezentrum,Termine
ATTACH;FMTTYPE=image/webp:https://lebenstraum-verein.de/wp-content/uploads/2026/04/Veranstaltungs-Haendels3-1.webp
ORGANIZER;CN="Lebenstraum e.V.":MAILTO:kontakt@lebenstraum-verein.de
END:VEVENT
END:VCALENDAR