BEGIN:VCALENDAR
VERSION:2.0
PRODID:-//Lebenstraum e.V. - ECPv6.15.20//NONSGML v1.0//EN
CALSCALE:GREGORIAN
METHOD:PUBLISH
X-WR-CALNAME:Lebenstraum e.V.
X-ORIGINAL-URL:https://lebenstraum-verein.de
X-WR-CALDESC:Veranstaltungen für Lebenstraum e.V.
REFRESH-INTERVAL;VALUE=DURATION:PT1H
X-Robots-Tag:noindex
X-PUBLISHED-TTL:PT1H
BEGIN:VTIMEZONE
TZID:Europe/Berlin
BEGIN:DAYLIGHT
TZOFFSETFROM:+0100
TZOFFSETTO:+0200
TZNAME:CEST
DTSTART:20210328T010000
END:DAYLIGHT
BEGIN:STANDARD
TZOFFSETFROM:+0200
TZOFFSETTO:+0100
TZNAME:CET
DTSTART:20211031T010000
END:STANDARD
BEGIN:DAYLIGHT
TZOFFSETFROM:+0100
TZOFFSETTO:+0200
TZNAME:CEST
DTSTART:20220327T010000
END:DAYLIGHT
BEGIN:STANDARD
TZOFFSETFROM:+0200
TZOFFSETTO:+0100
TZNAME:CET
DTSTART:20221030T010000
END:STANDARD
BEGIN:DAYLIGHT
TZOFFSETFROM:+0100
TZOFFSETTO:+0200
TZNAME:CEST
DTSTART:20230326T010000
END:DAYLIGHT
BEGIN:STANDARD
TZOFFSETFROM:+0200
TZOFFSETTO:+0100
TZNAME:CET
DTSTART:20231029T010000
END:STANDARD
END:VTIMEZONE
BEGIN:VEVENT
DTSTART;TZID=Europe/Berlin:20220420T170000
DTEND;TZID=Europe/Berlin:20220420T190000
DTSTAMP:20260425T185916
CREATED:20220318T103120Z
LAST-MODIFIED:20220318T103120Z
UID:6324-1650474000-1650481200@lebenstraum-verein.de
SUMMARY:Wir kochen gebratene asiatische Nudeln
DESCRIPTION:Wir treffen uns alle beim Lebenstraum.\nWir braten asiatische Nudeln mit Gemüse.\nDie Nudeln braten wir in einem Wok.\nEin Wok ist eine besondere asiatische Pfanne. \nTreffpunkt: Geschäftsstelle Lebenstraum e.V. Uhrzeit: 17:00 Uhr – 19:00 UhrKosten: Teilnahme–Beitrag (3 €) + Unkosten (2 €) = 5 € \nAktuelle Corona-Regeln: \nEs gelten 3G Regeln für alle.\nGanz wichtig: Ihr müsst den Nachweis im Original mit bringen.
URL:https://lebenstraum-verein.de/veranstaltung/wir-kochen-gebratene-asiatische-nudeln/
LOCATION:Geschäftsstelle des Lebenstraum e.V.\, Große Märkerstraße 14/15\, Halle
CATEGORIES:Freizeitangebote,Freizeittreff
ATTACH;FMTTYPE=image/jpeg:https://lebenstraum-verein.de/wp-content/uploads/2021/12/AsiaNudeln.jpg
ORGANIZER;CN="Isabelle Beutel-Simbt":MAILTO:freizeittreff@lebenstraum-verein.de
END:VEVENT
END:VCALENDAR