BEGIN:VCALENDAR
VERSION:2.0
PRODID:-//Lebenstraum e.V. - ECPv6.15.20//NONSGML v1.0//EN
CALSCALE:GREGORIAN
METHOD:PUBLISH
X-WR-CALNAME:Lebenstraum e.V.
X-ORIGINAL-URL:https://lebenstraum-verein.de
X-WR-CALDESC:Veranstaltungen für Lebenstraum e.V.
REFRESH-INTERVAL;VALUE=DURATION:PT1H
X-Robots-Tag:noindex
X-PUBLISHED-TTL:PT1H
BEGIN:VTIMEZONE
TZID:Europe/Berlin
BEGIN:DAYLIGHT
TZOFFSETFROM:+0100
TZOFFSETTO:+0200
TZNAME:CEST
DTSTART:20210328T010000
END:DAYLIGHT
BEGIN:STANDARD
TZOFFSETFROM:+0200
TZOFFSETTO:+0100
TZNAME:CET
DTSTART:20211031T010000
END:STANDARD
BEGIN:DAYLIGHT
TZOFFSETFROM:+0100
TZOFFSETTO:+0200
TZNAME:CEST
DTSTART:20220327T010000
END:DAYLIGHT
BEGIN:STANDARD
TZOFFSETFROM:+0200
TZOFFSETTO:+0100
TZNAME:CET
DTSTART:20221030T010000
END:STANDARD
BEGIN:DAYLIGHT
TZOFFSETFROM:+0100
TZOFFSETTO:+0200
TZNAME:CEST
DTSTART:20230326T010000
END:DAYLIGHT
BEGIN:STANDARD
TZOFFSETFROM:+0200
TZOFFSETTO:+0100
TZNAME:CET
DTSTART:20231029T010000
END:STANDARD
END:VTIMEZONE
BEGIN:VEVENT
DTSTART;TZID=Europe/Berlin:20220921T170000
DTEND;TZID=Europe/Berlin:20220921T190000
DTSTAMP:20260424T121524
CREATED:20220818T101553Z
LAST-MODIFIED:20220818T101736Z
UID:8531-1663779600-1663786800@lebenstraum-verein.de
SUMMARY:Freizeit-Treff: Wir kochen Gnocchi mit Tomatensalat!
DESCRIPTION:Wir treffen uns alle beim Lebenstraum.\nWir schneiden Tomaten und Zwiebeln.\nWir kochen die Gnocchi.\nGnocchi schmecken wie Nudeln.\nSie sind aber aus Kartoffeln. \nTreffpunkt: Geschäftsstelle Lebenstraum e.V. Uhrzeit: 17:00 Uhr – 19:00 UhrKosten: Teilnahme–Beitrag (3 €) + Unkosten (2\,50 €) = 5\,50 € \nAnmeldung:\nBitte meldet euch vorher telefonisch im Sekretariat des Lebenstraum e.V. oder mit einer E-Mail an.\nTelefonnummer: 0345 52 00 25 1\nE-Mail: freizeittreff@lebenstraum-verein.de
URL:https://lebenstraum-verein.de/veranstaltung/wir-kochen-gnocchi-mit-tomatensalat/
LOCATION:Geschäftsstelle des Lebenstraum e.V.\, Große Märkerstraße 14/15\, Halle
CATEGORIES:Freizeitangebote,Freizeittreff
ATTACH;FMTTYPE=image/jpeg:https://lebenstraum-verein.de/wp-content/uploads/2022/08/gnocchi.jpg
ORGANIZER;CN="Paula Buchholz":MAILTO:freizeittreff@lebenstraum-verein.de
END:VEVENT
END:VCALENDAR