BEGIN:VCALENDAR
VERSION:2.0
PRODID:-//Lebenstraum e.V. - ECPv6.15.20//NONSGML v1.0//EN
CALSCALE:GREGORIAN
METHOD:PUBLISH
X-WR-CALNAME:Lebenstraum e.V.
X-ORIGINAL-URL:https://lebenstraum-verein.de
X-WR-CALDESC:Veranstaltungen für Lebenstraum e.V.
REFRESH-INTERVAL;VALUE=DURATION:PT1H
X-Robots-Tag:noindex
X-PUBLISHED-TTL:PT1H
BEGIN:VTIMEZONE
TZID:Europe/Berlin
BEGIN:DAYLIGHT
TZOFFSETFROM:+0100
TZOFFSETTO:+0200
TZNAME:CEST
DTSTART:20230326T010000
END:DAYLIGHT
BEGIN:STANDARD
TZOFFSETFROM:+0200
TZOFFSETTO:+0100
TZNAME:CET
DTSTART:20231029T010000
END:STANDARD
BEGIN:DAYLIGHT
TZOFFSETFROM:+0100
TZOFFSETTO:+0200
TZNAME:CEST
DTSTART:20240331T010000
END:DAYLIGHT
BEGIN:STANDARD
TZOFFSETFROM:+0200
TZOFFSETTO:+0100
TZNAME:CET
DTSTART:20241027T010000
END:STANDARD
BEGIN:DAYLIGHT
TZOFFSETFROM:+0100
TZOFFSETTO:+0200
TZNAME:CEST
DTSTART:20250330T010000
END:DAYLIGHT
BEGIN:STANDARD
TZOFFSETFROM:+0200
TZOFFSETTO:+0100
TZNAME:CET
DTSTART:20251026T010000
END:STANDARD
END:VTIMEZONE
BEGIN:VEVENT
DTSTART;TZID=Europe/Berlin:20241113T170000
DTEND;TZID=Europe/Berlin:20241113T190000
DTSTAMP:20260423T053504
CREATED:20241028T111423Z
LAST-MODIFIED:20241028T111423Z
UID:12351-1731517200-1731524400@lebenstraum-verein.de
SUMMARY:Wir kochen Persisch
DESCRIPTION:Als wir im September mit dem Freizeit-Treff beim Laternenfest waren\nhaben wir lecker persisch gegessen.\nDie Verkäuferin von dem Stand bietet Kochkurse an.\nAlso wird es professionell\, wir bekommen einen Kochkurs!\nPersisches Essen ist so lecker.\nSeid ihr gespannt auf neue Gerichte\, dann kocht mit! \nTreffpunkt: Geschäftsstelle (Große Märkerstraße 14/15)\nUhrzeit: 17 – 19 Uhr\nKosten: Teilnahme-Beitrag (3€) + Koch-Zutaten (7€) = 10€​
URL:https://lebenstraum-verein.de/veranstaltung/wir-kochen-persisch/
LOCATION:Geschäftsstelle des Lebenstraum e.V.\, Große Märkerstraße 14/15\, Halle
CATEGORIES:Freizeitangebote,Freizeittreff
ATTACH;FMTTYPE=image/webp:https://lebenstraum-verein.de/wp-content/uploads/2024/10/pexels-dapur-melodi-192125-1109197.webp
ORGANIZER;CN="Paula Buchholz":MAILTO:freizeittreff@lebenstraum-verein.de
END:VEVENT
END:VCALENDAR