BEGIN:VCALENDAR
VERSION:2.0
PRODID:-//Lebenstraum e.V. - ECPv6.15.20//NONSGML v1.0//EN
CALSCALE:GREGORIAN
METHOD:PUBLISH
X-WR-CALNAME:Lebenstraum e.V.
X-ORIGINAL-URL:https://lebenstraum-verein.de
X-WR-CALDESC:Veranstaltungen für Lebenstraum e.V.
REFRESH-INTERVAL;VALUE=DURATION:PT1H
X-Robots-Tag:noindex
X-PUBLISHED-TTL:PT1H
BEGIN:VTIMEZONE
TZID:Europe/Berlin
BEGIN:DAYLIGHT
TZOFFSETFROM:+0100
TZOFFSETTO:+0200
TZNAME:CEST
DTSTART:20250330T010000
END:DAYLIGHT
BEGIN:STANDARD
TZOFFSETFROM:+0200
TZOFFSETTO:+0100
TZNAME:CET
DTSTART:20251026T010000
END:STANDARD
BEGIN:DAYLIGHT
TZOFFSETFROM:+0100
TZOFFSETTO:+0200
TZNAME:CEST
DTSTART:20260329T010000
END:DAYLIGHT
BEGIN:STANDARD
TZOFFSETFROM:+0200
TZOFFSETTO:+0100
TZNAME:CET
DTSTART:20261025T010000
END:STANDARD
BEGIN:DAYLIGHT
TZOFFSETFROM:+0100
TZOFFSETTO:+0200
TZNAME:CEST
DTSTART:20270328T010000
END:DAYLIGHT
BEGIN:STANDARD
TZOFFSETFROM:+0200
TZOFFSETTO:+0100
TZNAME:CET
DTSTART:20271031T010000
END:STANDARD
END:VTIMEZONE
BEGIN:VEVENT
DTSTART;TZID=Europe/Berlin:20260429T170000
DTEND;TZID=Europe/Berlin:20260429T190000
DTSTAMP:20260423T124448
CREATED:20260324T135303Z
LAST-MODIFIED:20260324T135303Z
UID:13896-1777482000-1777489200@lebenstraum-verein.de
SUMMARY:Wir kochen Spargel
DESCRIPTION:Wir kochen ein Frühlings-Gericht.\nEs gibt Spargel mit Kartoffeln.\nWir putzen den Spargel und schälen die Kartoffeln.\nIhr könnt dazu Sauce-Hollandaise und Schinken essen.\nWer möchte kann auch einen gebratenen Lachs essen. \nTreffpunkt: Teilhabe-Zentrum (Magdeburgerstraße 33)\nUhrzeit: 17 Uhr – 19 Uhr\nKosten: Teilnahme-Beitrag (3€) + Einkauf (7€) = 10€ \nBitte meldet euch vorher an.\nSpätestens 2 Tage vor dem Freizeit-Treff
URL:https://lebenstraum-verein.de/veranstaltung/wir-kochen-spargel/
LOCATION:Teilhabezentrum Mitte\, Magdeburger Straße 33\, Halle (Saale)\, Sachsen-Anhalt\, 06112\, Germany
CATEGORIES:Freizeitangebote,Freizeittreff,Teilhabezentrum
ATTACH;FMTTYPE=image/webp:https://lebenstraum-verein.de/wp-content/uploads/2025/07/pexels-mali-244395.webp
ORGANIZER;CN="Paula Buchholz":MAILTO:freizeittreff@lebenstraum-verein.de
END:VEVENT
END:VCALENDAR