BEGIN:VCALENDAR
VERSION:2.0
PRODID:-//Lebenstraum e.V. - ECPv6.15.20//NONSGML v1.0//EN
CALSCALE:GREGORIAN
METHOD:PUBLISH
X-WR-CALNAME:Lebenstraum e.V.
X-ORIGINAL-URL:https://lebenstraum-verein.de
X-WR-CALDESC:Veranstaltungen für Lebenstraum e.V.
REFRESH-INTERVAL;VALUE=DURATION:PT1H
X-Robots-Tag:noindex
X-PUBLISHED-TTL:PT1H
BEGIN:VTIMEZONE
TZID:Europe/Berlin
BEGIN:DAYLIGHT
TZOFFSETFROM:+0100
TZOFFSETTO:+0200
TZNAME:CEST
DTSTART:20220327T010000
END:DAYLIGHT
BEGIN:STANDARD
TZOFFSETFROM:+0200
TZOFFSETTO:+0100
TZNAME:CET
DTSTART:20221030T010000
END:STANDARD
BEGIN:DAYLIGHT
TZOFFSETFROM:+0100
TZOFFSETTO:+0200
TZNAME:CEST
DTSTART:20230326T010000
END:DAYLIGHT
BEGIN:STANDARD
TZOFFSETFROM:+0200
TZOFFSETTO:+0100
TZNAME:CET
DTSTART:20231029T010000
END:STANDARD
BEGIN:DAYLIGHT
TZOFFSETFROM:+0100
TZOFFSETTO:+0200
TZNAME:CEST
DTSTART:20240331T010000
END:DAYLIGHT
BEGIN:STANDARD
TZOFFSETFROM:+0200
TZOFFSETTO:+0100
TZNAME:CET
DTSTART:20241027T010000
END:STANDARD
END:VTIMEZONE
BEGIN:VEVENT
DTSTART;TZID=Europe/Berlin:20230621T170000
DTEND;TZID=Europe/Berlin:20230621T190000
DTSTAMP:20260421T100818
CREATED:20230519T091547Z
LAST-MODIFIED:20230519T091547Z
UID:9549-1687366800-1687374000@lebenstraum-verein.de
SUMMARY:Wir machen eine Quiche!
DESCRIPTION:WAS MACHEN WIR?\nWir treffen uns alle beim Lebenstraum.\nWir machen gemeinsam eine Quiche.\nEine Quiche ist ein runder Teig mit einer herzhaften Füllung.\nWir belegen die Quiche mit Brokkoli und Feta. \nTREFFPUNKT:\nLebenstraum e.V. (Große Märkerstraße 14/15)\n17:00 Uhr – 19:00 Uhr \nKOSTEN\nTeilnahme-Beitrag (3€) + Unkosten (2\,50€) = 5\,50€ \nWie melde ich mich an?\nBitte denkt daran\, dass ihr euch vorher anmelden müsst.\nFür uns ist eine frühzeitige Anmeldung am besten.\nBitte erledigt das spätestens 24h vorher!\nIhr könnt eine E-Mail schreiben: kontakt@lebenstraum-verein.de\nIhr könnt auch anrufen: 0345 52 00 25 1\nWir freuen uns auf euch! \n  \n 
URL:https://lebenstraum-verein.de/veranstaltung/wir-machen-eine-quiche/
LOCATION:Geschäftsstelle des Lebenstraum e.V.\, Große Märkerstraße 14/15\, Halle
CATEGORIES:Freizeitangebote,Freizeittreff
ATTACH;FMTTYPE=image/jpeg:https://lebenstraum-verein.de/wp-content/uploads/2023/05/pexels-antoni-shkraba-5852263.jpg
ORGANIZER;CN="Paula Buchholz":MAILTO:freizeittreff@lebenstraum-verein.de
END:VEVENT
END:VCALENDAR