BEGIN:VCALENDAR
VERSION:2.0
PRODID:-//Lebenstraum e.V. - ECPv6.15.20//NONSGML v1.0//EN
CALSCALE:GREGORIAN
METHOD:PUBLISH
X-WR-CALNAME:Lebenstraum e.V.
X-ORIGINAL-URL:https://lebenstraum-verein.de
X-WR-CALDESC:Veranstaltungen für Lebenstraum e.V.
REFRESH-INTERVAL;VALUE=DURATION:PT1H
X-Robots-Tag:noindex
X-PUBLISHED-TTL:PT1H
BEGIN:VTIMEZONE
TZID:Europe/Berlin
BEGIN:DAYLIGHT
TZOFFSETFROM:+0100
TZOFFSETTO:+0200
TZNAME:CEST
DTSTART:20250330T010000
END:DAYLIGHT
BEGIN:STANDARD
TZOFFSETFROM:+0200
TZOFFSETTO:+0100
TZNAME:CET
DTSTART:20251026T010000
END:STANDARD
BEGIN:DAYLIGHT
TZOFFSETFROM:+0100
TZOFFSETTO:+0200
TZNAME:CEST
DTSTART:20260329T010000
END:DAYLIGHT
BEGIN:STANDARD
TZOFFSETFROM:+0200
TZOFFSETTO:+0100
TZNAME:CET
DTSTART:20261025T010000
END:STANDARD
BEGIN:DAYLIGHT
TZOFFSETFROM:+0100
TZOFFSETTO:+0200
TZNAME:CEST
DTSTART:20270328T010000
END:DAYLIGHT
BEGIN:STANDARD
TZOFFSETFROM:+0200
TZOFFSETTO:+0100
TZNAME:CET
DTSTART:20271031T010000
END:STANDARD
END:VTIMEZONE
BEGIN:VEVENT
DTSTART;TZID=Europe/Berlin:20260218T170000
DTEND;TZID=Europe/Berlin:20260218T190000
DTSTAMP:20260420T111525
CREATED:20260130T075517Z
LAST-MODIFIED:20260217T141318Z
UID:13773-1771434000-1771441200@lebenstraum-verein.de
SUMMARY:Wir machen einen italienischen Abend
DESCRIPTION:Wir treffen uns im Teilhabezentrum.\nWir werden italienisch kochen.\nAls Vorspeise gibt es Antipasti. Das ist eingelegtes Gemüse\nWir backen Pizza.\nAlle können sich ihre Pizza selbst belegen.\nZum Nachtisch gibt es Tiramisu. \nTreffpunkt: Teilhabezentrum (Magdeburgerstraße 33)\nUhrzeit: 17 – 19 Uhr\nKosten: Teilnahme-Beitrag (3€) + Einkauf (6€) = 9€ \nBitte meldet euch vorher an.\nSpätestens 2 Tage vor dem Freizeit-Treff
URL:https://lebenstraum-verein.de/veranstaltung/wir-machen-einen-italienischen-abend/
LOCATION:Teilhabezentrum Mitte\, Magdeburger Straße 33\, Halle (Saale)\, Sachsen-Anhalt\, 06112\, Germany
CATEGORIES:Freizeitangebote,Freizeittreff,Teilhabezentrum
ATTACH;FMTTYPE=image/webp:https://lebenstraum-verein.de/wp-content/uploads/2024/10/pexels-dapur-melodi-192125-1109197.webp
ORGANIZER;CN="Paula Buchholz":MAILTO:freizeittreff@lebenstraum-verein.de
END:VEVENT
END:VCALENDAR