BEGIN:VCALENDAR
VERSION:2.0
PRODID:-//Lebenstraum e.V. - ECPv6.15.20//NONSGML v1.0//EN
CALSCALE:GREGORIAN
METHOD:PUBLISH
X-WR-CALNAME:Lebenstraum e.V.
X-ORIGINAL-URL:https://lebenstraum-verein.de
X-WR-CALDESC:Veranstaltungen für Lebenstraum e.V.
REFRESH-INTERVAL;VALUE=DURATION:PT1H
X-Robots-Tag:noindex
X-PUBLISHED-TTL:PT1H
BEGIN:VTIMEZONE
TZID:Europe/Berlin
BEGIN:DAYLIGHT
TZOFFSETFROM:+0100
TZOFFSETTO:+0200
TZNAME:CEST
DTSTART:20210328T010000
END:DAYLIGHT
BEGIN:STANDARD
TZOFFSETFROM:+0200
TZOFFSETTO:+0100
TZNAME:CET
DTSTART:20211031T010000
END:STANDARD
BEGIN:DAYLIGHT
TZOFFSETFROM:+0100
TZOFFSETTO:+0200
TZNAME:CEST
DTSTART:20220327T010000
END:DAYLIGHT
BEGIN:STANDARD
TZOFFSETFROM:+0200
TZOFFSETTO:+0100
TZNAME:CET
DTSTART:20221030T010000
END:STANDARD
BEGIN:DAYLIGHT
TZOFFSETFROM:+0100
TZOFFSETTO:+0200
TZNAME:CEST
DTSTART:20230326T010000
END:DAYLIGHT
BEGIN:STANDARD
TZOFFSETFROM:+0200
TZOFFSETTO:+0100
TZNAME:CET
DTSTART:20231029T010000
END:STANDARD
END:VTIMEZONE
BEGIN:VEVENT
DTSTART;TZID=Europe/Berlin:20220112T170000
DTEND;TZID=Europe/Berlin:20220112T190000
DTSTAMP:20260420T111616
CREATED:20211222T152636Z
LAST-MODIFIED:20211222T152646Z
UID:4408-1642006800-1642014000@lebenstraum-verein.de
SUMMARY:Wir machen einen Winter-Spaziergang
DESCRIPTION:Wir treffen uns zusammen beim Lebenstraum.\nZusammen gehen wir in den Park.\nDort machen wir einen Spaziergang.\nDabei unterhalten wir uns.\nEs kann kalt werden.\nZieht euch dicke Sachen an.\nTreffpunkt: Lebenstraum e.V. (Große Märkerstraße 14/15)\n17:00 Uhr – 19:00 Uhr\nKosten: Teilnahme-Beitrag (3€ \n  \nEs gelten 2G+ Regeln für alle.\nGanz Wichtig: Ihr müsst die Nachweise im Original mitbringen.
URL:https://lebenstraum-verein.de/veranstaltung/wir-machen-einen-winter-spaziergang/
LOCATION:Geschäftsstelle des Lebenstraum e.V.\, Große Märkerstraße 14/15\, Halle
CATEGORIES:Freizeittreff
ATTACH;FMTTYPE=image/jpeg:https://lebenstraum-verein.de/wp-content/uploads/2021/12/01_winter_burg.jpg
END:VEVENT
END:VCALENDAR