BEGIN:VCALENDAR
VERSION:2.0
PRODID:-//Lebenstraum e.V. - ECPv6.15.20//NONSGML v1.0//EN
CALSCALE:GREGORIAN
METHOD:PUBLISH
X-WR-CALNAME:Lebenstraum e.V.
X-ORIGINAL-URL:https://lebenstraum-verein.de
X-WR-CALDESC:Veranstaltungen für Lebenstraum e.V.
REFRESH-INTERVAL;VALUE=DURATION:PT1H
X-Robots-Tag:noindex
X-PUBLISHED-TTL:PT1H
BEGIN:VTIMEZONE
TZID:Europe/Berlin
BEGIN:DAYLIGHT
TZOFFSETFROM:+0100
TZOFFSETTO:+0200
TZNAME:CEST
DTSTART:20210328T010000
END:DAYLIGHT
BEGIN:STANDARD
TZOFFSETFROM:+0200
TZOFFSETTO:+0100
TZNAME:CET
DTSTART:20211031T010000
END:STANDARD
BEGIN:DAYLIGHT
TZOFFSETFROM:+0100
TZOFFSETTO:+0200
TZNAME:CEST
DTSTART:20220327T010000
END:DAYLIGHT
BEGIN:STANDARD
TZOFFSETFROM:+0200
TZOFFSETTO:+0100
TZNAME:CET
DTSTART:20221030T010000
END:STANDARD
BEGIN:DAYLIGHT
TZOFFSETFROM:+0100
TZOFFSETTO:+0200
TZNAME:CEST
DTSTART:20230326T010000
END:DAYLIGHT
BEGIN:STANDARD
TZOFFSETFROM:+0200
TZOFFSETTO:+0100
TZNAME:CET
DTSTART:20231029T010000
END:STANDARD
END:VTIMEZONE
BEGIN:VEVENT
DTSTART;TZID=Europe/Berlin:20221010T170000
DTEND;TZID=Europe/Berlin:20221010T190000
DTSTAMP:20260420T111535
CREATED:20221010T052925Z
LAST-MODIFIED:20221010T053334Z
UID:8667-1665421200-1665428400@lebenstraum-verein.de
SUMMARY:Wir malen uns den Herbst bunt!
DESCRIPTION:Wir treffen uns in der Geschäftsstelle.\nJeder bekommt ein Blatt Papier.\nWir malen einen großen Baum auf das Papier.\nMit Wattestäbchen und Farbe kannst du deinen Baum bunt\nmachen! \nTreffpunkt: Lebenstraum e.V. (Große Märkerstraße 14/15)\nUhrzeit: 17:00 Uhr – 19:00 Uhr\nKosten: Teilnahme-Beitrag (3€) + Unkosten (0\,50€) = 3\,50€ \nAnmeldung:\nBitte meldet euch vorher telefonisch im Sekretariat des Lebenstraum e.V. oder mit einer E-Mail an.\nTelefonnummer: 0345 52 00 25 1\nE-Mail: kontakt@lebenstraum-verein.de
URL:https://lebenstraum-verein.de/veranstaltung/wir-malen-uns-den-herbst-bunt/
LOCATION:Geschäftsstelle des Lebenstraum e.V.\, Große Märkerstraße 14/15\, Halle
CATEGORIES:Freizeitangebote,Freizeittreff
ATTACH;FMTTYPE=image/jpeg:https://lebenstraum-verein.de/wp-content/uploads/2022/10/Herbst-Basteln.jpg
ORGANIZER;CN="Paula Buchholz":MAILTO:freizeittreff@lebenstraum-verein.de
END:VEVENT
END:VCALENDAR