BEGIN:VCALENDAR
VERSION:2.0
PRODID:-//Lebenstraum e.V. - ECPv6.15.20//NONSGML v1.0//EN
CALSCALE:GREGORIAN
METHOD:PUBLISH
X-WR-CALNAME:Lebenstraum e.V.
X-ORIGINAL-URL:https://lebenstraum-verein.de
X-WR-CALDESC:Veranstaltungen für Lebenstraum e.V.
REFRESH-INTERVAL;VALUE=DURATION:PT1H
X-Robots-Tag:noindex
X-PUBLISHED-TTL:PT1H
BEGIN:VTIMEZONE
TZID:Europe/Berlin
BEGIN:DAYLIGHT
TZOFFSETFROM:+0100
TZOFFSETTO:+0200
TZNAME:CEST
DTSTART:20250330T010000
END:DAYLIGHT
BEGIN:STANDARD
TZOFFSETFROM:+0200
TZOFFSETTO:+0100
TZNAME:CET
DTSTART:20251026T010000
END:STANDARD
BEGIN:DAYLIGHT
TZOFFSETFROM:+0100
TZOFFSETTO:+0200
TZNAME:CEST
DTSTART:20260329T010000
END:DAYLIGHT
BEGIN:STANDARD
TZOFFSETFROM:+0200
TZOFFSETTO:+0100
TZNAME:CET
DTSTART:20261025T010000
END:STANDARD
BEGIN:DAYLIGHT
TZOFFSETFROM:+0100
TZOFFSETTO:+0200
TZNAME:CEST
DTSTART:20270328T010000
END:DAYLIGHT
BEGIN:STANDARD
TZOFFSETFROM:+0200
TZOFFSETTO:+0100
TZNAME:CET
DTSTART:20271031T010000
END:STANDARD
END:VTIMEZONE
BEGIN:VEVENT
DTSTART;TZID=Europe/Berlin:20260504T100000
DTEND;TZID=Europe/Berlin:20260504T180000
DTSTAMP:20260420T212740
CREATED:20260420T140208Z
LAST-MODIFIED:20260420T140208Z
UID:13950-1777888800-1777917600@lebenstraum-verein.de
SUMMARY:Workshop (H)alle behindert? – Sachsen-Anhalt hat die Wahl! Teil 1
DESCRIPTION:Im September 2026 wählen die Menschen in Sachsen-Anhalt einen neuen Landtag.\nDer Landtag entscheidet über wichtige Dinge: \nzum Beispiel: \n\nüber Hilfen für Menschen mit Behinderung\nüber Schulen\nüber Busse und Bahnen\n\nPolitik betrifft also das Leben von uns allen. \nDeshalb laden wir ein: \nKomm zu unserem kostenlosen Workshop und verstehe\, was die Wahl für dich bedeutet! \n📅 Montag\, 4. Mai 2026 🕙 10–18 Uhr 📍 Teilhabezentrum\, Magdeburger Str. 33\, Halle (Saale) ♿ Der Ort ist barrierefrei. \nWas passiert an diesem Tag? \nWir sprechen gemeinsam darüber\, was Politik überhaupt ist und wie sie dein Leben direkt beeinflusst.\nDu überlegst\, was dir persönlich wichtig ist: Wohnen\, Arbeit\, Freizeit\, Gesundheit oder etwas anderes.\nUnd du übst\, wie du deine Meinung klar und deutlich ausdrücken kannst.\nDenn deine Stimme zählt! \nDu musst kein Vorwissen mitbringen.\nFachleute begleiten den Workshop und erklären alles verständlich.\nHelferinnen und Helfer sind den ganzen Tag dabei. \nEs gibt Mittagessen – und die Teilnahme ist komplett kostenlos. \n🏭 Du arbeitest in einer Werkstatt? Dann kannst du dir für diesen Tag eine Freistellung nehmen. Der Lebenstraum hilft dir dabei. \n📄 Alle Infos gibt es auch in Leichter Sprache Einladung in Leichter Sprache (pdf) \n📲 Melde dich bis Freitag\, 24. April 2026 an: ✉️ marc.dietzel@lebenstraum-verein.de 📞 0159 01 69 34 15
URL:https://lebenstraum-verein.de/veranstaltung/workshop-halle-behindert-sachsen-anhalt-hat-die-wahl-teil-1/
LOCATION:Teilhabezentrum Mitte\, Magdeburger Straße 33\, Halle (Saale)\, Sachsen-Anhalt\, 06112\, Germany
CATEGORIES:Freizeitangebote,Protesttag,Teilhabezentrum,Termine
ATTACH;FMTTYPE=image/webp:https://lebenstraum-verein.de/wp-content/uploads/2026/04/Veranstaltungs-Haendels-1.webp
ORGANIZER;CN="Marc Dietzel":MAILTO:marc.dietzel@lebenstraum-verein.de
END:VEVENT
END:VCALENDAR