BEGIN:VCALENDAR
VERSION:2.0
PRODID:-//Lebenstraum e.V. - ECPv6.15.20//NONSGML v1.0//EN
CALSCALE:GREGORIAN
METHOD:PUBLISH
X-ORIGINAL-URL:https://lebenstraum-verein.de
X-WR-CALDESC:Veranstaltungen für Lebenstraum e.V.
REFRESH-INTERVAL;VALUE=DURATION:PT1H
X-Robots-Tag:noindex
X-PUBLISHED-TTL:PT1H
BEGIN:VTIMEZONE
TZID:Europe/Berlin
BEGIN:DAYLIGHT
TZOFFSETFROM:+0100
TZOFFSETTO:+0200
TZNAME:CEST
DTSTART:20250330T010000
END:DAYLIGHT
BEGIN:STANDARD
TZOFFSETFROM:+0200
TZOFFSETTO:+0100
TZNAME:CET
DTSTART:20251026T010000
END:STANDARD
BEGIN:DAYLIGHT
TZOFFSETFROM:+0100
TZOFFSETTO:+0200
TZNAME:CEST
DTSTART:20260329T010000
END:DAYLIGHT
BEGIN:STANDARD
TZOFFSETFROM:+0200
TZOFFSETTO:+0100
TZNAME:CET
DTSTART:20261025T010000
END:STANDARD
BEGIN:DAYLIGHT
TZOFFSETFROM:+0100
TZOFFSETTO:+0200
TZNAME:CEST
DTSTART:20270328T010000
END:DAYLIGHT
BEGIN:STANDARD
TZOFFSETFROM:+0200
TZOFFSETTO:+0100
TZNAME:CET
DTSTART:20271031T010000
END:STANDARD
END:VTIMEZONE
BEGIN:VEVENT
DTSTART;TZID=Europe/Berlin:20260422T170000
DTEND;TZID=Europe/Berlin:20260422T190000
DTSTAMP:20260420T111330
CREATED:20260324T135119Z
LAST-MODIFIED:20260324T135119Z
UID:13894-1776877200-1776884400@lebenstraum-verein.de
SUMMARY:Wir gehen ins Spiele Haus
DESCRIPTION:Wir gehen in das Spielehaus.\nDort gibt es etwas zu Trinken.\nIm Spielehaus können wir viele Spiele spielen.\nUnd hier können wir uns gut unterhalten. \nTreffpunkt: Spielehaus (Franckeplatz 1\, Haus 33)\nUhrzeit: 17 Uhr – 19 Uhr\nKosten: Teilnahme-Beitrag (3€) + Taschengeld \nBitte meldet euch vorher an.\nSpätestens 2 Tage vor dem Freizeit-Treff
URL:https://lebenstraum-verein.de/veranstaltung/wir-gehen-ins-spiele-haus-15/
LOCATION:Spielehaus\, Franckesche Stiftungen 1 (Haus 33)\, Halle\, 06108
CATEGORIES:Freizeitangebote,Freizeittreff
ATTACH;FMTTYPE=image/jpeg:https://lebenstraum-verein.de/wp-content/uploads/2021/12/games-650435_1920-680x453-1.jpg
ORGANIZER;CN="Paula Buchholz":MAILTO:freizeittreff@lebenstraum-verein.de
END:VEVENT
BEGIN:VEVENT
DTSTART;TZID=Europe/Berlin:20260425T140000
DTEND;TZID=Europe/Berlin:20260425T170000
DTSTAMP:20260420T111330
CREATED:20260109T094759Z
LAST-MODIFIED:20260109T094759Z
UID:13710-1777125600-1777136400@lebenstraum-verein.de
SUMMARY:Disco Deluxe
DESCRIPTION:Alle zwei Monate findet von 14.00 bis 17.00 Uhr die Disco Deluxe im Objekt 5 in Halle statt. \nHier kann man bei Musik aus den letzten Jahrzehnten und von heute gemeinsam abtanzen\, sich austauschen\, neue Menschen kennenlernen\, ins Gespräch kommen oder einfach nur eine schöne Zeit haben. \nDie Veranstaltung ist für RollstuhlfahrerInnen geeignet. \nDer Eintritt beträgt 5\,- €\n \nDer Veranstaltungsort\, das Objekt 5 findet Ihr in der Seebener Straße 5 in Halle\, nahe der Burg Giebichenstein. \nWer mit der Straßenbahn kommt\, nimmt am besten die Linien 7 oder 8 und steigt an der Haltestelle Burg Giebichenstein aus.
URL:https://lebenstraum-verein.de/veranstaltung/disco-deluxe-21/
LOCATION:Objekt 5\, Seebener Str. 5\, Halle\, Sachsen-Anhalt\, 06114\, Deutschland
CATEGORIES:Disco Deluxe,Freizeitangebote
ATTACH;FMTTYPE=image/jpeg:https://lebenstraum-verein.de/wp-content/uploads/2023/01/Disco-Deluxe-Tanzflaeche.jpg
ORGANIZER;CN="Steffen Hau%C3%9Fmann":MAILTO:steffen.haussmann@lebenstraum-verein.de
END:VEVENT
BEGIN:VEVENT
DTSTART;TZID=Europe/Berlin:20260429T170000
DTEND;TZID=Europe/Berlin:20260429T190000
DTSTAMP:20260420T111330
CREATED:20260324T135303Z
LAST-MODIFIED:20260324T135303Z
UID:13896-1777482000-1777489200@lebenstraum-verein.de
SUMMARY:Wir kochen Spargel
DESCRIPTION:Wir kochen ein Frühlings-Gericht.\nEs gibt Spargel mit Kartoffeln.\nWir putzen den Spargel und schälen die Kartoffeln.\nIhr könnt dazu Sauce-Hollandaise und Schinken essen.\nWer möchte kann auch einen gebratenen Lachs essen. \nTreffpunkt: Teilhabe-Zentrum (Magdeburgerstraße 33)\nUhrzeit: 17 Uhr – 19 Uhr\nKosten: Teilnahme-Beitrag (3€) + Einkauf (7€) = 10€ \nBitte meldet euch vorher an.\nSpätestens 2 Tage vor dem Freizeit-Treff
URL:https://lebenstraum-verein.de/veranstaltung/wir-kochen-spargel/
LOCATION:Teilhabezentrum Mitte\, Magdeburger Straße 33\, Halle (Saale)\, Sachsen-Anhalt\, 06112\, Germany
CATEGORIES:Freizeitangebote,Freizeittreff,Teilhabezentrum
ATTACH;FMTTYPE=image/webp:https://lebenstraum-verein.de/wp-content/uploads/2025/07/pexels-mali-244395.webp
ORGANIZER;CN="Paula Buchholz":MAILTO:freizeittreff@lebenstraum-verein.de
END:VEVENT
BEGIN:VEVENT
DTSTART;TZID=Europe/Berlin:20260606T140000
DTEND;TZID=Europe/Berlin:20260606T170000
DTSTAMP:20260420T111330
CREATED:20260109T094913Z
LAST-MODIFIED:20260109T094913Z
UID:13712-1780754400-1780765200@lebenstraum-verein.de
SUMMARY:Disco Deluxe
DESCRIPTION:Alle zwei Monate findet von 14.00 bis 17.00 Uhr die Disco Deluxe im Objekt 5 in Halle statt. \nHier kann man bei Musik aus den letzten Jahrzehnten und von heute gemeinsam abtanzen\, sich austauschen\, neue Menschen kennenlernen\, ins Gespräch kommen oder einfach nur eine schöne Zeit haben. \nDie Veranstaltung ist für RollstuhlfahrerInnen geeignet. \nDer Eintritt beträgt 5\,- €\n \nDer Veranstaltungsort\, das Objekt 5 findet Ihr in der Seebener Straße 5 in Halle\, nahe der Burg Giebichenstein. \nWer mit der Straßenbahn kommt\, nimmt am besten die Linien 7 oder 8 und steigt an der Haltestelle Burg Giebichenstein aus.
URL:https://lebenstraum-verein.de/veranstaltung/disco-deluxe-22/
LOCATION:Objekt 5\, Seebener Str. 5\, Halle\, Sachsen-Anhalt\, 06114\, Deutschland
CATEGORIES:Disco Deluxe,Freizeitangebote
ATTACH;FMTTYPE=image/jpeg:https://lebenstraum-verein.de/wp-content/uploads/2023/01/Disco-Deluxe-Tanzflaeche.jpg
ORGANIZER;CN="Steffen Hau%C3%9Fmann":MAILTO:steffen.haussmann@lebenstraum-verein.de
END:VEVENT
BEGIN:VEVENT
DTSTART;TZID=Europe/Berlin:20260624T180000
DTEND;TZID=Europe/Berlin:20260624T200000
DTSTAMP:20260420T111330
CREATED:20250718T084207Z
LAST-MODIFIED:20260226T090331Z
UID:13362-1782324000-1782331200@lebenstraum-verein.de
SUMMARY:kurz & klar: Steuererklärung leicht gemacht!
DESCRIPTION:kurz & klar \nDas Einkommensteuergesetz sieht verschiedene Steuererleichterungen für Menschen mit Behinderung und ihre Angehörigen vor\, so z.B. den Behinderten-Pauschbetrag\, den Pflege-Pauschbetrag und den Fahrtkosten-Pauschbetrag. Unter welchen Voraussetzungen können Eltern behinderter Kinder diese Beträge und weitere Nachteilsausgleiche in ihrer Steuererklärung geltend machen? Diesen und weiteren Fragen wollen wir in der Veranstaltung nachgehen und dadurch Licht in den Paragrafen-Dschungel bringen. Nach einem fachlichen Input gibt es die Möglichkeit für Rückfragen und zum Austausch untereinander. \nWir freuen uns über neue und bekannte Gesichter! \nDie Veranstaltungsreihe „kurz & klar“ des Bundesverbandes für körper- und mehrfachbehinderte Menschen (bvkm) steht unter dem Motto „Leben mit einem behinderten Kind – Selbsthilfe stärken“. Gemeinsam mit Elternvereinen und anderen Organisationen der Selbsthilfe vor Ort möchte der bvkm Eltern von Kindern mit Behinderung über ihre Rechte informieren und sie dadurch ermutigen\, Ihnen zustehende Leistungen gegenüber den Kranken- und Pflegekassen\, den Sozialämtern und anderen Behörden einzufordern. \nZIELGRUPPE \nEltern von Kindern mit Behinderung und weitere Interessierte sind herzlich willkommen. \nPROGRAMM \n18:00 Uhr – Ankommen vor Ort \n18:10 Uhr – Begrüßung und Vorstellung \n18:30 Uhr – Online-Vortrag: Steuererklärung leicht gemacht! Referentin: Katja Kruse \n19:15 Uhr – Pause und Fragen-Sammeln \n19:30 Uhr – Fragerunde und Austausch \nWo? \nTeilhabezentrum Mitte\, Magdeburgerstraße 33\, Halle (Saale) \nKosten \nDie Teilnahme ist kostenlos. \n\n\n\n\n\nTelefon \n\n\n0345 – 520 02 51 \n\n\n\n\n\n\n\n\nEmail\n\n\nkontakt@lebenstraum-verein.de \n\n\n\n\n\n  \n 
URL:https://lebenstraum-verein.de/veranstaltung/kurz-klar-steuererklaerung-leicht-gemacht/
LOCATION:Teilhabezentrum Mitte\, Magdeburger Straße 33\, Halle (Saale)\, Sachsen-Anhalt\, 06112\, Germany
CATEGORIES:Freizeitangebote,kurz & klar,Teilhabezentrum,Weiterbildungen
ATTACH;FMTTYPE=image/jpeg:https://lebenstraum-verein.de/wp-content/uploads/2022/03/seminar.jpg
ORGANIZER;CN="Lebenstraum e.V.":MAILTO:kontakt@lebenstraum-verein.de
END:VEVENT
BEGIN:VEVENT
DTSTART;TZID=Europe/Berlin:20260926T140000
DTEND;TZID=Europe/Berlin:20260926T170000
DTSTAMP:20260420T111330
CREATED:20260109T095016Z
LAST-MODIFIED:20260109T095016Z
UID:13714-1790431200-1790442000@lebenstraum-verein.de
SUMMARY:Disco Deluxe
DESCRIPTION:Alle zwei Monate findet von 14.00 bis 17.00 Uhr die Disco Deluxe im Objekt 5 in Halle statt. \nHier kann man bei Musik aus den letzten Jahrzehnten und von heute gemeinsam abtanzen\, sich austauschen\, neue Menschen kennenlernen\, ins Gespräch kommen oder einfach nur eine schöne Zeit haben. \nDie Veranstaltung ist für RollstuhlfahrerInnen geeignet. \nDer Eintritt beträgt 5\,- €\n \nDer Veranstaltungsort\, das Objekt 5 findet Ihr in der Seebener Straße 5 in Halle\, nahe der Burg Giebichenstein. \nWer mit der Straßenbahn kommt\, nimmt am besten die Linien 7 oder 8 und steigt an der Haltestelle Burg Giebichenstein aus.
URL:https://lebenstraum-verein.de/veranstaltung/disco-deluxe-23/
LOCATION:Objekt 5\, Seebener Str. 5\, Halle\, Sachsen-Anhalt\, 06114\, Deutschland
CATEGORIES:Disco Deluxe,Freizeitangebote
ATTACH;FMTTYPE=image/jpeg:https://lebenstraum-verein.de/wp-content/uploads/2023/01/Disco-Deluxe-Tanzflaeche.jpg
ORGANIZER;CN="Steffen Hau%C3%9Fmann":MAILTO:steffen.haussmann@lebenstraum-verein.de
END:VEVENT
BEGIN:VEVENT
DTSTART;TZID=Europe/Berlin:20261007T180000
DTEND;TZID=Europe/Berlin:20261007T200000
DTSTAMP:20260420T111330
CREATED:20250718T084309Z
LAST-MODIFIED:20260226T090353Z
UID:13364-1791396000-1791403200@lebenstraum-verein.de
SUMMARY:kurz & klar: Die Leistungen der Pflegeversicherung
DESCRIPTION:kurz & klar \nMenschen mit Behinderung können Anspruch auf Leistungen der Pflegeversicherung haben. Voraussetzung hierfür ist\, dass sie in einen der fünf Pflegegrade eingestuft sind. Für Kinder mit Behinderung gelten dabei Besonderheiten. Wieviel Geld steht für die Leistungen der Pflegeversicherung zur Verfügung und wofür können die Beträge eingesetzt werden? Diesen und weiteren Fragen wollen wir in der Veranstaltung nachgehen und dadurch Licht in den Paragrafen-Dschungel bringen. Nach einem fachlichen Input gibt es die Möglichkeit für Rückfragen und zum Austausch untereinander. \nDie Veranstaltungsreihe „kurz & klar“ des Bundesverbandes für körper- und mehrfachbehinderte Menschen (bvkm) steht unter dem Motto „Leben mit einem behinderten Kind – Selbsthilfe stärken“. Gemeinsam mit Elternvereinen und anderen Organisationen der Selbsthilfe vor Ort möchte der bvkm Eltern von Kindern mit Behinderung über ihre Rechte informieren und sie dadurch ermutigen\, Ihnen zustehende Leistungen gegenüber den Kranken- und Pflegekassen\, den Sozialämtern und anderen Behörden einzufordern. \nPROGRAMM \n18:00 Uhr – Ankommen vor Ort \n18:10 Uhr – Begrüßung und Vorstellung \n18:30 Uhr – Online-Vortrag: Die Leistungen der Pflegeversicherung Referentin: Katja Kruse \n19:15 Uhr – Pause und Fragen-Sammeln \n19:30 Uhr – Fragerunde und Austausch \nZIELGRUPPE \nEltern von Kindern mit Behinderung und weitere Interessierte sind herzlich willkommen. \nWo? \nTeilhabezentrum Mitte\, Magdeburgerstraße 33\, Halle (Saale) \nKosten \nDie Teilnahme ist kostenlos. \n\n\n\n\n\nTelefon \n\n\n0345 – 520 02 51 \n\n\n\n\n\n\n\n\nEmail\n\n\nkontakt@lebenstraum-verein.de \n\n\n\n\n\n  \n 
URL:https://lebenstraum-verein.de/veranstaltung/kurz-klar-die-leistungen-der-pflegeversicherung/
LOCATION:Teilhabezentrum Mitte\, Magdeburger Straße 33\, Halle (Saale)\, Sachsen-Anhalt\, 06112\, Germany
CATEGORIES:Freizeitangebote,kurz & klar,Teilhabezentrum,Weiterbildungen
ATTACH;FMTTYPE=image/jpeg:https://lebenstraum-verein.de/wp-content/uploads/2022/03/seminar.jpg
ORGANIZER;CN="Lebenstraum e.V.":MAILTO:kontakt@lebenstraum-verein.de
END:VEVENT
BEGIN:VEVENT
DTSTART;TZID=Europe/Berlin:20261114T140000
DTEND;TZID=Europe/Berlin:20261114T170000
DTSTAMP:20260420T111330
CREATED:20260109T095157Z
LAST-MODIFIED:20260109T095157Z
UID:13716-1794664800-1794675600@lebenstraum-verein.de
SUMMARY:Disco Deluxe
DESCRIPTION:Alle zwei Monate findet von 14.00 bis 17.00 Uhr die Disco Deluxe im Objekt 5 in Halle statt. \nHier kann man bei Musik aus den letzten Jahrzehnten und von heute gemeinsam abtanzen\, sich austauschen\, neue Menschen kennenlernen\, ins Gespräch kommen oder einfach nur eine schöne Zeit haben. \nDie Veranstaltung ist für RollstuhlfahrerInnen geeignet. \nDer Eintritt beträgt 5\,- €\n \nDer Veranstaltungsort\, das Objekt 5 findet Ihr in der Seebener Straße 5 in Halle\, nahe der Burg Giebichenstein. \nWer mit der Straßenbahn kommt\, nimmt am besten die Linien 7 oder 8 und steigt an der Haltestelle Burg Giebichenstein aus.
URL:https://lebenstraum-verein.de/veranstaltung/disco-deluxe-24/
LOCATION:Objekt 5\, Seebener Str. 5\, Halle\, Sachsen-Anhalt\, 06114\, Deutschland
CATEGORIES:Disco Deluxe,Freizeitangebote
ATTACH;FMTTYPE=image/jpeg:https://lebenstraum-verein.de/wp-content/uploads/2023/01/Disco-Deluxe-Tanzflaeche.jpg
ORGANIZER;CN="Steffen Hau%C3%9Fmann":MAILTO:steffen.haussmann@lebenstraum-verein.de
END:VEVENT
END:VCALENDAR